Workbook

Sheet Tarif gazole ORC en cours
B2: TARIFS DU GAZOLE - OFFRE DE REFERENCE SNCF COMBUSTIBLE 2025
B4: Montants unitaires / litre | C4: déc-21 (HDS 22) | D4: 44562 | E4: 44593 | F4: 44621 | G4: =+F4+31 -> 44652 | H4: =+G4+31 -> 44683 | I4: =+H4+31 -> 44714 | J4: =+I4+31 -> 44745 | K4: =+J4+31 -> 44776 | L4: =+K4+31 -> 44807 | M4: =+L4+31 -> 44838 | N4: =+M4+31 -> 44869 | O4: déc-22 (HDS 22) | P4: déc-22 (HDS 23) | Q4: 44927 | R4: 44958 | S4: 44986 | T4: 45017 | U4: 45047 | V4: 45078 | W4: 45108 | X4: 45139 | Y4: 45170 | Z4: 45200 | AA4: 45231 | AB4: déc-23 (HDS 23) | AC4: déc-23 (HDS 24) | AD4: 45292 | AE4: 45323 | AF4: 45352 | AG4: 45383 | AH4: 45413 | AI4: 45444 | AJ4: 45474 | AK4: 45505 | AL4: 45536 | AM4: 45566 | AN4: 45597 | AO4: déc-24 (HDS 24) | AP4: déc-24 (HDS 25) | AQ4: 45658 | AR4: 45689 | AS4: 45717 | AT4: 45748 | AU4: 45778 | AV4: 45809 | AW4: 45839 | AX4: 45870 | AY4: 45901 | AZ4: 45931 | BA4: 45962
B5: Prix du Gazole livré | C5: =0.025+0.74672 -> 0.77172 | D5: =0.025+0.84614 -> 0.87114 | E5: =0.025+0.90587 -> 0.93087 | F5: =0.025+1.15374 -> 1.17874 | G5: =0.025+1.005 -> 1.03 | H5: =0.025+1.03636 -> 1.06136 | I5: =0.025+1.22724 -> 1.25224 | J5: =0.025+1.10389 -> 1.12889 | K5: =0.025+1.04065 -> 1.06565 | L5: =0.025+0.92351 -> 0.94851 | M5: =0.025+1.06308 -> 1.08808 | N5: =0.025+0.9806 -> 1.0056 | O5: =0.025+0.93296 -> 0.95796 | P5: =0.024+0.93296 -> 0.95696 | Q5: =0.024+1.0218 -> 1.0458 | R5: =0.024+0.93745 -> 0.96145 | S5: =0.024+0.91884 -> 0.94284 | T5: =0.024+0.87034 -> 0.89434 | U5: =0.024+0.81307 -> 0.83707 | V5: =0.024+0.86073 -> 0.88473 | W5: =0.024+0.90209 -> 0.92609 | X5: =0.024+1.00642 -> 1.03042 | Y5: =0.024+1.07537 -> 1.09937 | Z5: =0.024+1.033 -> 1.057 | AA5: =0.024+0.96248 -> 0.98648 | AB5: =0.024+0.9078 -> 0.9318 | AC5: =0.026+0.9078 -> 0.9338 | AD5: =0.026+0.93769 -> 0.96369 | AE5: =0.026+0.95701 -> 0.98301 | AF5: =0.026+0.93176 -> 0.95776 | AG5: =0.026+0.92207 -> 0.94807 | AH5: =0.026+0.8732 -> 0.8992 | AI5: =0.026+0.8946 -> 0.9206 | AJ5: =0.026+0.8965 -> 0.9225 | AK5: =0.026+0.827 -> 0.853 | AL5: =0.026+0.7837 -> 0.8097 | AM5: =0.026+0.80354 -> 0.82954 | AN5: =0.026+0.82418 -> 0.85018 | AO5: =0.026+0.83062 -> 0.85662 | AP5: =0.026+0.83062 -> 0.85662 | AQ5: =0.026+0.87504 -> 0.90104 | AR5: =0.026+0.84307 -> 0.86907 | AS5: =0.026+0.78695 -> 0.81295 | AT5: =0.026+0.73559 -> 0.76159 | AU5: =0.026+0.72328 -> 0.74928 | AV5: =0.026+0.76528 -> 0.79128 | AW5: =0.026+0.79351 -> 0.81951 | AX5: =0.026+0.75251 -> 0.77851 | AY5: =0.026+0.76662 -> 0.79262 | AZ5: =0.026+0.75918 -> 0.78518 | BA5: =0.026+0.80725 -> 0.83325
B6: Utilisation de la Station-service | C6: 0.102 | D6: 0.102 | E6: 0.102 | F6: 0.102 | G6: 0.102 | H6: 0.102 | I6: 0.102 | J6: 0.102 | K6: 0.102 | L6: 0.102 | M6: 0.102 | N6: 0.102 | O6: 0.102 | P6: 0.108 | Q6: 0.108 | R6: 0.11 | S6: 0.11 | T6: 0.11 | U6: 0.11 | V6: 0.11 | W6: 0.11 | X6: 0.11 | Y6: 0.11 | Z6: 0.11 | AA6: 0.11 | AB6: 0.11 | AC6: 0.114 | AD6: 0.114 | AE6: 0.114 | AF6: 0.114 | AG6: 0.114 | AH6: 0.114 | AI6: 0.114 | AJ6: 0.114 | AK6: 0.114 | AL6: 0.114 | AM6: 0.114 | AN6: 0.114 | AO6: 0.114 | AP6: 0.116 | AQ6: 0.116 | AR6: 0.116 | AS6: 0.116 | AT6: 0.116 | AU6: 0.116 | AV6: 0.116 | AW6: 0.116 | AX6: 0.116 | AY6: 0.116 | AZ6: 0.116 | BA6: 0.116
B7: Distribution du gazole (Main d'oeuvre) | C7: 0.04 | D7: 0.04 | E7: 0.04 | F7: 0.04 | G7: 0.04 | H7: 0.04 | I7: 0.04 | J7: 0.04 | K7: 0.04 | L7: 0.04 | M7: 0.04 | N7: 0.04 | O7: 0.04 | P7: 0.039 | Q7: 0.039 | R7: 0.039 | S7: 0.039 | T7: 0.039 | U7: 0.039 | V7: 0.039 | W7: 0.039 | X7: 0.039 | Y7: 0.039 | Z7: 0.039 | AA7: 0.039 | AB7: 0.039 | AC7: 0.041 | AD7: 0.041 | AE7: 0.041 | AF7: 0.041 | AG7: 0.041 | AH7: 0.041 | AI7: 0.041 | AJ7: 0.041 | AK7: 0.041 | AL7: 0.041 | AM7: 0.041 | AN7: 0.041 | AO7: 0.041 | AP7: 0.041 | AQ7: 0.041 | AR7: 0.041 | AS7: 0.041 | AT7: 0.041 | AU7: 0.041 | AV7: 0.041 | AW7: 0.041 | AX7: 0.041 | AY7: 0.041 | AZ7: 0.041 | BA7: 0.041
B9: Montant total facturé par litre | C9: =C5+C6+C7 -> 0.91372 | D9: =D5+D6+D7 -> 1.01314 | E9: =E5+E6+E7 -> 1.07287 | F9: =F5+F6+F7 -> 1.32074 | G9: =G5+G6+G7 -> 1.172 | H9: =H5+H6+H7 -> 1.20336 | I9: =I5+I6+I7 -> 1.39424 | J9: =J5+J6+J7 -> 1.27089 | ... BA9: =BA5+BA6+BA7 -> 0.99025
D10: =D5-0.025 -> 0.84614 | E10: =E5-0.025 -> 0.90587 | F10: =F5-0.025 -> 1.15374 | G10: =G5-0.025 -> 1.005 | H10: =H5-0.025 -> 1.03636 | I10: =I5-0.025 -> 1.22724 | J10: =J5-0.025 -> 1.10389 | K10: =K5-0.025 -> 1.04065 | ... O10: =O5-0.025 -> 0.93296 | P10: =P5-0.024 -> 0.93296 | Q10: =Q5-0.024 -> 1.0218 | R10: =R5-0.024 -> 0.93745 | S10: =S5-0.024 -> 0.91884 | T10: =T5-0.024 -> 0.87034

Sheet Tarif B100 GRANVILLE ORC 2025 
B2: TARIF B100 GRANVILLE ORC 2025
B4: Montants unitaires / litre | C4: déc-21 (HDS 22) | D4: 44562 | E4: 44593 | F4: 44621 | G4: =+F4+31 -> 44652 | H4: =+G4+31 -> 44683 | I4: =+H4+31 -> 44714 | J4: =+I4+31 -> 44745 | K4: =+J4+31 -> 44776 | L4: =+K4+31 -> 44807 | M4: =+L4+31 -> 44838 | N4: =+M4+31 -> 44869 | O4: déc-22 (HDS 22) | P4: déc-22 (HDS 23) | Q4: 44927 | R4: 44958 | S4: 44986 | T4: 45017 | U4: 45047 | V4: 45078 | W4: 45108 | X4: 45139 | Y4: 45170 | Z4: 45200 | AA4: 45231 | AB4: déc-23 (HDS 23) | AC4: déc-23 (HDS 24) | AD4: 45292 | AE4: 45323 | AF4: 45352 | AG4: 45383 | AH4: 45413 | AI4: 45444 | AJ4: 45474 | AK4: 45505 | AL4: 45536 | AM4: 45566 | AN4: 45597 | AO4: déc-24 (HDS24) | AP4: déc-24 (HDS25) | AQ4: 45658 | AR4: 45689 | AS4: 45717 | AT4: 45748 | AU4: 45778 | AV4: 45809 | AW4: 45839 | AX4: 45870 | AY4: 45901 | AZ4: 45931 | BA4: 45962
B5: Prix du B100 livré | C5: =0.005+0.82733 -> 0.83233 | D5: =0.005+0.921 -> 0.926 | E5: =0.005+0.90767 -> 0.91267 | F5: =0.005+1.15374 -> 1.15874 | G5: =0.005+1.13408 -> 1.13908 | H5: =0.005+1.15004 -> 1.15504 | I5: =0.005+1.35921 -> 1.36421 | J5: =0.005+1.21526 -> 1.22026 | K5: =0.005+1.14692 -> 1.15192 | L5: =0.005+1.13584 -> 1.14084 | M5: =0.005+1.17724 -> 1.18224 | N5: =0.005+1.10558 -> 1.11058 | O5: =0.005+1.105736 -> 1.110736 | P5: =0.005+1.105736 -> 1.110736 | Q5: =0.005+1.13546 -> 1.14046 | R5: =0.005+1.0607 -> 1.0657 | S5: =0.005+1.03766 -> 1.04266 | T5: =0.005+0.98551 -> 0.99051 | U5: =0.005+0.92949 -> 0.93449 | V5: =0.005+0.92125 -> 0.92625 | W5: =0.005+0.95893 -> 0.96393 | X5: =0.005+1.067 -> 1.072 | Y5: =0.005+1.138 -> 1.143 | Z5: =0.005+1.089 -> 1.094 | AA5: =0.005+1.0215 -> 1.0265 | AB5: =0.005+0.96641 -> 0.97141 | AC5: =0.005+0.96641 -> 0.97141 | AD5: =0.005+0.98213 -> 0.98713 | AE5: =0.005+1.03565 -> 1.04065 | AF5: =0.005+1.01248 -> 1.01748 | AG5: =0.005+1.00457 -> 1.00957 | AH5: =0.005+0.95153 -> 0.95653 | AI5: =0.005+0.959 -> 0.964 | AJ5: =0.005+0.96 -> 0.965 | AK5: =0.005+0.90658 -> 0.91158 | AL5: =0.005+0.85993 -> 0.86493 | AM5: =0.005+0.88238 -> 0.88738 | AN5: =0.005+0.90061 -> 0.90561 | AO5: =0.005+0.90643 -> 0.91143 | AP5: =0.005+0.90643 -> 0.91143 | AQ5: =0.005+1.02082 -> 1.02582 | AR5: =0.005+1.01211 -> 1.01711 | AS5: =0.005+0.95492 -> 0.95992 | AT5: =0.005+0.89883 -> 0.90383 | AU5: =0.005+0.88791 -> 0.89291 | AV5: =0.005+0.93152 -> 0.93652 | AW5: =0.005+0.96152 -> 0.96652 | AX5: =0.005+0.91773 -> 0.92273 | AY5: =0.005+0.9385 -> 0.9435 | AZ5: =0.005+0.92381 -> 0.92881 | BA5: =0.005+0.9733 -> 0.9783
B6: Utilisation de la Station-service | C6: 0.102 | D6: 0.102 | E6: 0.102 | F6: 0.102 | G6: 0.102 | H6: 0.102 | I6: 0.102 | J6: 0.102 | K6: 0.102 | L6: 0.102 | M6: 0.102 | N6: 0.102 | O6: 0.102 | P6: 0.108 | Q6: 0.108 | R6: 0.11 | S6: 0.11 | T6: 0.11 | U6: 0.11 | V6: 0.11 | W6: 0.11 | X6: 0.11 | Y6: 0.11 | Z6: 0.11 | AA6: 0.11 | AB6: 0.11 | AC6: 0.114 | AD6: 0.114 | AE6: 0.114 | AF6: 0.114 | AG6: 0.114 | AH6: 0.114 | AI6: 0.114 | AJ6: 0.114 | AK6: 0.114 | AL6: 0.114 | AM6: 0.114 | AN6: 0.114 | AO6: 0.114 | AP6: 0.116 | AQ6: 0.116 | AR6: 0.116 | AS6: 0.116 | AT6: 0.116 | AU6: 0.116 | AV6: 0.116 | AW6: 0.116 | AX6: 0.116 | AY6: 0.116 | AZ6: 0.116 | BA6: 0.116
B7: Distribution du gazole (Main d'oeuvre) | C7: 0.04 | D7: 0.04 | E7: 0.04 | F7: 0.04 | G7: 0.04 | H7: 0.04 | I7: 0.04 | J7: 0.04 | K7: 0.04 | L7: 0.04 | M7: 0.04 | N7: 0.04 | O7: 0.04 | P7: 0.039 | Q7: 0.039 | R7: 0.039 | S7: 0.039 | T7: 0.039 | U7: 0.039 | V7: 0.039 | W7: 0.039 | X7: 0.039 | Y7: 0.039 | Z7: 0.039 | AA7: 0.039 | AB7: 0.039 | AC7: 0.041 | AD7: 0.041 | AE7: 0.041 | AF7: 0.041 | AG7: 0.041 | AH7: 0.041 | AI7: 0.041 | AJ7: 0.041 | AK7: 0.041 | AL7: 0.041 | AM7: 0.041 | AN7: 0.041 | AO7: 0.041 | AP7: 0.041 | AQ7: 0.041 | AR7: 0.041 | AS7: 0.041 | AT7: 0.041 | AU7: 0.041 | AV7: 0.041 | AW7: 0.041 | AX7: 0.041 | AY7: 0.041 | AZ7: 0.041 | BA7: 0.041
B9: Montant total facturé par litre | C9: =C5+C6+C7 -> 0.97433 | D9: =D5+D6+D7 -> 1.068 | E9: =E5+E6+E7 -> 1.05467 | F9: =F5+F6+F7 -> 1.30074 | G9: =G5+G6+G7 -> 1.28108 | H9: =H5+H6+H7 -> 1.29704 | I9: =I5+I6+I7 -> 1.50621 | J9: =J5+J6+J7 -> 1.36226 | ... BA9: =BA5+BA6+BA7 -> 1.1353
D11: =D5-0.05 -> 0.876 | E11: =E5-0.05 -> 0.86267 | F11: =F5-0.05 -> 1.10874 | G11: =G5-0.05 -> 1.08908 | H11: =H5-0.05 -> 1.10504 | I11: =I5-0.05 -> 1.31421 | J11: =J5-0.05 -> 1.17026 | K11: =K5-0.05 -> 1.10192 | ... T11: =T5-0.05 -> 0.94051
D13: =D11/'Tarif gazole ORC en cours'!D10-1 -> 0.035289668 | E13: =E11/'Tarif gazole ORC en cours'!E10-1 -> -0.047688962 | F13: =F11/'Tarif gazole ORC en cours'!F10-1 -> -0.039003588 | G13: =G11/'Tarif gazole ORC en cours'!G10-1 -> 0.083661692 | H13: =H11/'Tarif gazole ORC en cours'!H10-1 -> 0.066270408 | I13: =I11/'Tarif gazole ORC en cours'!I10-1 -> 0.070866334 | J13: =J11/'Tarif gazole ORC en cours'!J10-1 -> 0.060123744 | K13: =K11/'Tarif gazole ORC en cours'!K10-1 -> 0.058876664 | ... T13: =T11/'Tarif gazole ORC en cours'!T10-1 -> 0.080623664

Sheet Historique tarifs gazole SNCF
B1: TARIFICATION DISTRIBUTION GAZOLE SNCF
C2: Horaire de Service 2016 jusqu'au 10/12/2016 | P2: Horaire de Service 2017 à tarification 2016 en attente de validation des tarifs par l'ARAFER
B3: Montants unitaires / litre | C3: 42339 | D3: =+C3+31 -> 42370 | E3: =+D3+31 -> 42401 | F3: =+E3+31 -> 42432 | G3: =+F3+31 -> 42463 | H3: =+G3+31 -> 42494 | I3: =+H3+31 -> 42525 | J3: =+I3+31 -> 42556 | K3: =+J3+31 -> 42587 | ... Y3: =+X3+31 -> 43021
B4: Prix du Gazole livré | C4: 0.446 | D4: 0.436 | E4: 0.443 | F4: 0.47836977 | G4: 0.484 | H4: 0.526 | I4: 0.55 | J4: 0.517 | K4: 0.515 | L4: 0.523 | M4: 0.566 | N4: 0.544 | O4: 0.602 | P4: 0.638 | Q4: 0.641 | R4: 0.606 | S4: 0.616 | T4: 0.586 | U4: 0.557 | V4: 0.57 | W4: 0.58 | X4: 0.61 | Y4: 0.617
B5: Utilisation de la Station-service | C5: 0.07 | D5: 0.07 | E5: 0.07 | F5: 0.07 | G5: 0.07 | H5: 0.07 | I5: 0.07 | J5: 0.07 | K5: 0.07 | L5: 0.07 | M5: 0.07 | N5: 0.07 | O5: 0.07 | P5: 0.07 | Q5: 0.07 | R5: 0.07 | S5: 0.07 | T5: 0.07 | U5: 0.07 | V5: 0.07 | W5: 0.07 | X5: 0.07 | Y5: 0.07
B6: Distribution du gazole (Main d'oeuvre) | C6: 0.086 | D6: 0.086 | E6: 0.086 | F6: 0.086 | G6: 0.086 | H6: 0.086 | I6: 0.086 | J6: 0.086 | K6: 0.086 | L6: 0.086 | M6: 0.086 | N6: 0.086 | O6: 0.086 | P6: 0.086 | Q6: 0.086 | R6: 0.086 | S6: 0.086 | T6: 0.086 | U6: 0.086 | V6: 0.086 | W6: 0.086 | X6: 0.086 | Y6: 0.086
B8: Montant total facturé par litre | C8: =C4+C5+C6 -> 0.602 | D8: =D4+D5+D6 -> 0.592 | E8: =E4+E5+E6 -> 0.599 | F8: =F4+F5+F6 -> 0.63436977 | G8: =G4+G5+G6 -> 0.64 | H8: =H4+H5+H6 -> 0.682 | I8: =I4+I5+I6 -> 0.706 | J8: =J4+J5+J6 -> 0.673 | ... Y8: =Y4+Y5+Y6 -> 0.773
O10: Horaire de Service 2017 à partir du 11/12/2016 avec tarifs de l'OR 2017 validés par l'ARAFER | AB10: Horaire de Service 2017 à partir du 10/12/2017 avec tarifs de l'OR 2018 validés par l'ARAFER | AO10: Horaire de Service 2020 à partir du 15/12/2019 avec tarifs de l'OR 2020 validés par l'ART
B11: Montants unitaires / litre | J11: Montants unitaires / litre | O11: 42705 | P11: =+O11+31 -> 42736 | Q11: =+P11+31 -> 42767 | R11: =+Q11+31 -> 42798 | S11: =+R11+31 -> 42829 | T11: =+S11+31 -> 42860 | U11: =+T11+31 -> 42891 | V11: =+U11+31 -> 42922 | W11: =+V11+31 -> 42953 | ... AA11: =+Z11+31 -> 43077 | AB11: déc-2017 HDS2018 | AC11: =+AA11+31 -> 43108 | AD11: =+AC11+31 -> 43139 | AE11: =+AD11+31 -> 43170 | AF11: =+AE11+31 -> 43201 | AG11: =+AF11+31 -> 43232 | AH11: =+AG11+31 -> 43263 | AI11: =+AH11+31 -> 43294 | AJ11: =+AI11+31 -> 43325 | AK11: =+AJ11+31 -> 43356 | ... AN11: =+AM11+31 -> 43449 | AO11: déc-2018 HDS2019 | AP11: =+AN11+31 -> 43480 | AQ11: =+AP11+31 -> 43511 | AR11: =+AQ11+31 -> 43542 | AS11: =+AR11+31 -> 43573 | AT11: =+AS11+31 -> 43604 | AU11: =+AT11+31 -> 43635 | AV11: =+AU11+31 -> 43666 | AW11: =+AV11+31 -> 43697 | AX11: =+AW11+31 -> 43728 | ... BA11: =+AZ11+31 -> 43821 | BB11: déc-19 HDS2020 | BC11: jan-20 | BD11: fev-20 | BE11: mars-20 | BF11: avril-20 | BG11: mai-20 | BH11: juin-20 | BI11: juillet-20 | BJ11: août-20 | BK11: septembre-20 | BL11: octobre-20 | BM11: novembre-20 | BN11: décembre-20 | BO11: décembre-20 HDS 21 | BP11: 44197 | BQ11: 44228 | BR11: 44256 | BS11: 44287 | BT11: 44317 | BU11: 44348 | BV11: 44378 | BW11: 44409 | BX11: 44440 | BY11: 44470 | BZ11: 44501 | CA11: 44531
B12: Prix du Gazole livré | J12: Prix du Gazole livré | O12: =+O4-0.04137+0.027 -> 0.58763 | P12: =+P4-0.04137+0.027 -> 0.62363 | Q12: =+Q4-0.04137+0.027 -> 0.62663 | R12: =+R4-0.04137+0.027 -> 0.59163 | S12: =+S4-0.04137+0.027 -> 0.60163 | T12: =+T4-0.04137+0.027 -> 0.57163 | U12: =+U4-0.04137+0.027 -> 0.54263 | V12: =+V4-0.04137+0.027 -> 0.55563 | ... Y12: =+Y4-0.04137+0.027 -> 0.60263 | Z12: 0.625 | AA12: =+'[1]Tarif dist gazole 2016'!Y$10 -> 0.63 | AB12: =+'[1]Tarif dist gazole 2016'!Z$10 -> 0.622 | AC12: =+'[1]Tarif dist gazole 2016'!AA$10 -> 0.683 | AD12: =+'[1]Tarif dist gazole 2016'!AB$10 -> 0.655 | AE12: =+'[1]Tarif dist gazole 2016'!AC$10 -> 0.659 | AF12: =+'[1]Tarif dist gazole 2016'!AD$10 -> 0.696 | AG12: =+'[1]Tarif dist gazole 2016'!AE$10 -> 0.743 | AH12: =+'[1]Tarif dist gazole 2016'!AF$10 -> 0.732 | ... AX12: =+'[1]Tarif dist gazole 2016'!AV$10 -> 0.713 | AY12: =0.02+0.684 -> 0.704 | AZ12: =0.02+0.681 -> 0.701 | BA12: =0.02+0.695 -> 0.715 | BB12: =0.021+0.695 -> 0.716 | BC12: =0.021+0.678 -> 0.699 | BD12: =0.021+0.62926 -> 0.65026 | BE12: =0.021+0.50309 -> 0.52409 | BF12: =0.021+0.431 -> 0.452 | BG12: =0.021+0.443 -> 0.464 | BH12: =0.021+0.49343 -> 0.51443 | BI12: =0.021+0.51532 -> 0.53632 | BJ12: =0.021+0.50707 -> 0.52807 | BK12: =0.021+0.475 -> 0.496 | BL12: =0.021+0.4795 -> 0.5005 | BM12: =0.021+0.4955 -> 0.5165 | BN12: =0.021+0.533 -> 0.554 | BO12: =0.026+0.533 -> 0.559 | BP12: =0.026+0.568 -> 0.594 | BQ12: =0.026+0.61 -> 0.636 | BR12: =0.026+0.6245 -> 0.6505 | BS12: =0.026+0.617 -> 0.643 | BT12: =0.026+0.638 -> 0.664 | BU12: =0.026+0.6695 -> 0.6955 | BV12: =0.026+0.68059 -> 0.70659 | BW12: =0.026+0.6695 -> 0.6955 | BX12: =0.026+0.70931 -> 0.73531 | BY12: =0.026+0.78536 -> 0.81136 | BZ12: =0.026+0.7746 -> 0.8006 | CA12: =0.026+0.74672 -> 0.77272
B13: Utilisation de la Station-service | J13: Utilisation de la Station-service | O13: 0.103 | P13: 0.103 | Q13: 0.103 | R13: 0.103 | S13: 0.103 | T13: 0.103 | U13: 0.103 | V13: 0.103 | W13: 0.103 | X13: 0.103 | Y13: 0.103 | Z13: 0.103 | AA13: 0.103 | AB13: 0.099 | AC13: 0.099 | AD13: 0.099 | AE13: 0.099 | AF13: 0.099 | AG13: 0.099 | AH13: 0.099 | AI13: 0.099 | AJ13: 0.099 | AK13: 0.099 | AL13: 0.099 | AM13: 0.099 | AN13: 0.099 | AO13: 0.1 | AP13: 0.1 | AQ13: 0.1 | AR13: 0.1 | AS13: 0.1 | AT13: 0.1 | AU13: 0.1 | AV13: 0.1 | AW13: 0.1 | AX13: 0.1 | AY13: 0.1 | AZ13: 0.1 | BA13: 0.1 | BB13: 0.098 | BC13: 0.098 | BD13: 0.098 | BE13: 0.098 | BF13: 0.098 | BG13: 0.098 | BH13: 0.098 | BI13: 0.098 | BJ13: 0.098 | BK13: 0.098 | BL13: 0.098 | BM13: 0.098 | BN13: 0.098 | BO13: 0.099 | BP13: 0.099 | BQ13: 0.099 | BR13: 0.099 | BS13: 0.099 | BT13: 0.099 | BU13: 0.099 | BV13: 0.099 | BW13: 0.099 | BX13: 0.099 | BY13: 0.099 | BZ13: 0.099 | CA13: 0.099
B14: Distribution du gazole (Main d'oeuvre) | J14: Distribution du gazole (Main d'oeuvre) | O14: 0.032 | P14: 0.032 | Q14: 0.032 | R14: 0.032 | S14: 0.032 | T14: 0.032 | U14: 0.032 | V14: 0.032 | W14: 0.032 | X14: 0.032 | Y14: 0.032 | Z14: 0.032 | AA14: 0.032 | AB14: 0.033 | AC14: 0.033 | AD14: 0.033 | AE14: 0.033 | AF14: 0.033 | AG14: 0.033 | AH14: 0.033 | AI14: 0.033 | AJ14: 0.033 | AK14: 0.033 | AL14: 0.033 | AM14: 0.033 | AN14: 0.033 | AO14: 0.039 | AP14: 0.039 | AQ14: 0.039 | AR14: 0.039 | AS14: 0.039 | AT14: 0.039 | AU14: 0.039 | AV14: 0.039 | AW14: 0.039 | AX14: 0.039 | AY14: 0.039 | AZ14: 0.039 | BA14: 0.039 | BB14: 0.041 | BC14: 0.041 | BD14: 0.041 | BE14: 0.041 | BF14: 0.041 | BG14: 0.041 | BH14: 0.041 | BI14: 0.041 | BJ14: 0.041 | BK14: 0.041 | BL14: 0.041 | BM14: 0.041 | BN14: 0.041 | BO14: 0.043 | BP14: 0.043 | BQ14: 0.043 | BR14: 0.043 | BS14: 0.043 | BT14: 0.043 | BU14: 0.043 | BV14: 0.043 | BW14: 0.043 | BX14: 0.043 | BY14: 0.043 | BZ14: 0.043 | CA14: 0.043
B16: Montant total facturé par litre | J16: Montant total facturé par litre | O16: =O12+O13+O14 -> 0.72263 | P16: =P12+P13+P14 -> 0.75863 | Q16: =Q12+Q13+Q14 -> 0.76163 | R16: =R12+R13+R14 -> 0.72663 | S16: =S12+S13+S14 -> 0.73663 | T16: =T12+T13+T14 -> 0.70663 | U16: =U12+U13+U14 -> 0.67763 | V16: =V12+V13+V14 -> 0.69063 | ... CA16: =CA12+CA13+CA14 -> 0.91472
J18: Ecarts de tarifs à régulariser | O18: =+O16-O8 -> -0.03537 | P18: =+P16-P8 -> -0.03537 | Q18: =+Q16-Q8 -> -0.03537 | R18: =+R16-R8 -> -0.03537 | S18: =+S16-S8 -> -0.03537 | T18: =+T16-T8 -> -0.03537 | U18: =+U16-U8 -> -0.03537 | V18: =+V16-V8 -> -0.03537 | ... Y18: =+Y16-Y8 -> -0.03537
BD19: =BD16/BC16-1 -> -0.058162291 | BE19: =BE16/BD16-1 -> -0.1598586 | BF19: =BF16/BE16-1 -> -0.10871827 | BG19: =BG16/BF16-1 -> 0.020304569 | BH19: =BH16/BG16-1 -> 0.083631841 | BI19: =BI16/BH16-1 -> 0.033500145
