Workbook

Sheet Mode Opératoire
B1: Offre de Référence Maintenance de SNCF Voyageurs valable pour l'horaire de service 2027 Annexe 2.3 : Demande de Reprofilage de Roues (TEF) et Opérations Complémentaires
B2: Contexte :
B3: Ce nouveau support a été établi à la suite de l'audit de conformité au Règlement d'Exécution (RE) 2019/779 commandé par la Direction de la Régulation SNCF Voyageurs en octobre 2024
B4: Il répond aux exigences formulées dans les conclusions de l'audit.
B6: Rappel des 4 fonctions de l'Entité en Charge de l'Entretien (ECE) du Matériel Roulant du Candidat :
B7: Fonction 1 : ENCADREMENT de l'entretien du Matériel Roulant (Candidat)
B8: Fonction 2 : DEVELOPPEMENT de l'entretien du Matériel Roulant (Ingénierie)
B9: Fonction 3 : GESTION de l'entretien du parc du Candidat ( Programme et suit les opérations de maintenance du Matériel Roulant - Délivre l'Avis de Remise En Exploitation (AREX)
B10: Fonction 4 : EXECUTION de l'entretien (Réalise les opérations de maintenance du Matériel Roulant et délivre l'Avis de Remise En Service (ARES)
B11: Mode d'emploi et points d'attention
B13: Feuillet "Demande" :
B14: Phase 1 :
... B100: 1/6

Sheet Menu
A1: OUI
A2: NON

Sheet Logigramme
B1: Offre de Référence Maintenance de SNCF Voyageurs valable pour l'horaire de service 2027 Annexe 2.3 : Demande de Reprofilage de Roues (TEF) et Opérations Complémentaires
B3: LOGIGRAMME DES 3 CAS DE FIGURE POSSIBLES DES PRESTATIONS DE REPROFILAGE (TEF) ET OPERATIONS COMPLEMENTAIRES (DEMONTAGE/REMONTAGE/REGLAGE)
B6: ECE Fonction 1 | E6: ECE Fonction 4 | W6: ECE Fonction 3 CANDIDAT | AB6: ECE Fonction 4 SNCF VOYAGEURS
B7: Candidat | E7: TECHNICENTRE SNCF VOYAGEURS | L7: SOUS TRAITANT DU CANDIDAT | R7: Délivrance de L'avis de Remise en Conformité ou de l'Avis de non-conformité | W7: Délivrance de L'avis de Remise en Exploitation | AB7: Remise à disposition du MR par le GEOPS au Conducteur du Candidat
E8: Réalisateur : ECE Fonction 4 SNCF VOYAGEURS | L8: Réalisateur : ECE Fonction 4 du Candidat
B10: INSPECTION COMMUNE PREALABLE ET PLAN DE PREVENTION à réaliser en amont des interventions
B12: Organise et S'assure de la réalisation des ICP et Plan de Prévention avec l'ensemble de ses sous traitants et les diffuse. | E12: Organise avec le Candidat, réalise les ICP et Plan de Prévention et les transmet au Candidat | L12: S'assure de la réalisation des ICP et Plan de Prévention et de leurs diffusions auprès de ses équipes
B17: Cas N°1 - ECE 2 (B) SNCF Voyageurs : Reprofilage et Opérations complémentaires réalisées par SNCF Voyageurs
B19: SNCF Voyageurs est ECE fonction 2 du Candidat | F19: Reprofilage | H19: Ok | J19: Avec les caratéristiques géométriques et dimensionnelles attendues après reprofilage par le Candidat Feuillet "Données d'Entrée" | R19: ARES TEF | S19: Transmis par le Technicentre à l'ECE fonction 3 du candidat, au GEOPS et à la PSEF | W19: AREX délivré par l'ECE Fonction 3 du Candidat au GEOPS | Z19: OUI | AD19: Remise à disposition du MR au conducteur | AG19: OUI
Z21: NON
J23: Ou disponible dans GMAO / SI Essieux | S23: Transmis par le Technicentre à l'ECE fonction 3 du candidat, au GEOPS et à la PSEF | W23: Suite à donner transmises par l'ECE fonction 3 du Candidat au GEOPS | Z23: OUI
R24: ANC TEF | AE24: Dépendra des consignes de l'ECE3 du Candidat
Z25: NON
F27: Démontage Remontage Réglage | H27: Ok | J27: Sur la base des textes de prescription de SNCF Voyageurs | R27: ARES OC | S27: Transmis par le Technicentre à l'ECE fonction 3 du candidat, au GEOPS et à la PSEF | W27: AREX délivré par l'ECE Fonction 3 du Candidat au GEOPS | Z27: OUI
Z29: NON
S31: Transmis par le Technicentre à l'ECE fonction 3 du candidat, au GEOPS et à la PSEF | W31: Suite à donner transmises par l'ECE fonction 3 du Candidat au GEOPS | Z31: OUI
R32: ANC OC
Z33: NON | AD33: Remise à disposition du MR au conducteur | AG33: NON
B36: Cas N°2 - ECE 2 (B) du Candidat : Reprofilage et Opérations complémentaires réalisées par SNCF Voyageurs
B38: SNCF Voyageurs n'est pas l'ECE fonction 2 du Candidat
F39: Reprofilage | H39: OK | J39: Avec les caratéristiques géométriques et dimensionnelles attendues après reprofilage par le Candidat Feuillet "Données d'Entrée" | R39: ARES TEF | S39: Transmis par le Technicentre à l'ECE fonction 3 du candidat, au GEOPS et à la PSEF | W39: AREX délivré par l'ECE Fonction 3 du Candidat au GEOPS | Z39: OUI | AD39: Remise à disposition du MR au conducteur | AG39: OUI
Z41: NON
B43: Renseignement obligatoire du feuillet "Données d'entrée" | S43: Transmis par le Technicentre à l'ECE fonction 3 du candidat, au GEOPS et à la PSEF | W43: Suite à donner transmises par l'ECE fonction 3 du Candidat au GEOPS | Z43: OUI
R44: ANC TEF | AE44: Dépendra des consignes de l'ECE3 du Candidat
Z45: NON
F47: Démontage Remontage Réglage | H47: Sous Condition | J47: Avoir accepté la réalisation de la prestation | R47: ARES OC | S47: Transmis par le Technicentre à l'ECE fonction 3 du candidat, au GEOPS et à la PSEF | W47: AREX délivré par l'ECE Fonction 3 du Candidat au GEOPS | Z47: OUI
J48: Avoir été formé par le candidat en amont
J49: Disposer de la documentation à jour transmise par le Candidat | Z49: NON
S51: Transmis par le Technicentre à l'ECE fonction 3 du candidat, au GEOPS et à la PSEF | W51: Suite à donner transmises par l'ECE fonction 3 du Candidat au GEOPS | Z51: OUI
R52: ANC OC
Z53: NON | AD53: Remise à disposition du MR au conducteur | AG53: NON
B56: Cas N°3 - ECE 2 (B) du Candidat : Reprofilage réalisé par SNCF Voyageurs et Opérations complémentaires réalisées par l'ECE 4 (D) du Candidat après Mise à Disposition d'Installations par SNCF Voyageurs
B58: SNCF Voyageurs n'est pas l'ECE fonction 2 du Candidat
F59: Reprofilage | H59: OK | J59: Avec les caratéristiques géométriques et dimensionnelles attendues après reprofilage par le Candidat Feuillet "Données d'Entrée" | R59: ARES TEF Voyageurs | S59: Transmis par le Technicentre à l'ECE fonction 3 du candidat, au GEOPS et à la PSEF | W59: AREX délivré par l'ECE Fonction 3 du Candidat au GEOPS | Z59: OUI | AD59: Remise à disposition du MR au conducteur | AG59: OUI
Z61: NON
AE62: Dépendra des consignes de l'ECE3 du Candidat
B63: Renseignement obligatoire du feuillet "Données d'entrée" | R63: ANC TEF | S63: Transmis par le Technicentre à l'ECE fonction 3 du candidat, au GEOPS et à la PSEF | W63: Suite à donner transmises par l'ECE fonction 3 du Candidat au GEOPS | Z63: OUI
Z65: NON | AD65: Remise à disposition du MR au conducteur | AG65: NON
R68: HORS PERIMETRE SNCF VOYAGEURS
F71: MAD | H71: OK | L71: Démontage Remontage Réglage | N71: Par le Réalisateur du Candidat | R71: ARES 2 par ECE4 du Candidat | S71: Processus de libération du Matériel Roulant défini entre l'ECE1 et l'ECE4 du Candidat | W71: Processus de libération du Matériel Roulant défini entre l'ECE1 et l'ECE4 du Candidat | AB71: Processus de libération du Matériel Roulant défini entre l'ECE1, l'ECE4 du Candidat et l'utilisateur final (Conducteur). Si un nouveau besoin de MAD devait être nécessaire. Il conviendra de l'exprimer auprès de la PSEF
N72: Installations mise à disposition par SNCF Voyageurs
H74: Mise à disposition des installations
H75: par SNCF Voyageurs
R77: ANC | S77: Processus de libération du Matériel Roulant défini entre l'ECE1 et l'ECE4 du Candidat | W77: Processus de libération du Matériel Roulant défini entre l'ECE1 et l'ECE4 du Candidat

Sheet Demande
B1: Offre de Référence Maintenance de SNCF Voyageurs valable pour l'horaire de service 2027 Annexe 2.3 : Demande de Reprofilage de Roues (TEF) et Opérations Complémentaires
C2: Offre de Référence Maintenance de SNCF Voyageurs valable pour l'horaire de service 2027 Annexe 2.3 : Demande de Reprofilage de Roues (TEF) et Opérations complémentaires ou Mise A Disposition d'Installations (MAD)
B3: Données à compléter par le candidat, la PSEF et le site réalisateur
C4: A renseigner par la PSEF et le Candidat
C6: Numéro de Commande : | G6: Date de réalisation :
C8: Date et heure d'arrivée | D8: =IF($D$13<>"","A COMPLETER","") | E8: =IF($D$13<>"","A COMPLETER","") | F8: Obligatoire avant émission du Bon de Commande
C9: Date et heure de départ | D9: =IF($D$13<>"","A COMPLETER","") | E9: =IF($D$13<>"","A COMPLETER","") | F9: Obligatoire avant émission du Bon de Commande
C10: A reporter sur tous les feuillets svp
C11: Partie 1 : A renseigner par le Candidat
C13: Candidat : | G13: Date demandée : | H13: =IF($D$13<>"","A COMPLETER","")
C14: Raison sociale : | D14: =IF($D$13<>"","A COMPLETER","") | G14: Type de Matériel Roulant (MR) : | H14: =IF($D$13<>"","A COMPLETER","")
G15: N° du Matériel Roulant (MR) : | H15: =IF($D$13<>"","A COMPLETER","")
C16: Centre d'Entretien TEF : | D16: =IF($D$13<>"","A COMPLETER","") | G16: Alimentation (kV) : | H16: =IF($D$13<>"","A COMPLETER","")
C17: (consulter Annexe 1.4) | G17: Vitesse (km/h) : | H17: =IF($D$13<>"","A COMPLETER","")
C18: N° du Plan de prévention : | D18: =IF($D$13<>"","A COMPLETER","") | G18: Longueur du MR TEF (m) : | H18: =IF($D$13<>"","A COMPLETER","")
C19: Date de fin de validité : | D19: =IF($D$13<>"","A COMPLETER","") | G19: Longueur du convoi (m) : | H19: =IF($D$13<>"","A COMPLETER","")
G20: Poids à l'essieu : | H20: =IF($D$13<>"","A COMPLETER","")
D22: ECE Fonction 1 | E22: ECE Fonction 2 du MR | F22: ECE Fonction 3 du MR (Programmation - AREX) | H22: ECE Fonction 4 du MR (uniquement si en compte propre)
C23: Matériel Roulant (MR) | D23: =IF($D$13<>"","A COMPLETER","") | E23: =IF($D$13<>"","A COMPLETER","") | F23: =IF($D$13<>"","A COMPLETER","")
C24: Nom du Responsable | F24: =IF($D$13<>"","A COMPLETER","")
C25: Téléphone | F25: =IF($D$13<>"","A COMPLETER","")
C26: Courriel | F26: =IF($D$13<>"","A COMPLETER","")
C27: Organisation ECE 3 du Candidat (3x8 - 7j/7 - 2x8 - 5j/7 - 1x8) | F27: =IF($D$13<>"","A COMPLETER","")
C29: Autres coordonnées ECE Fonction 3 : | E29: Joignable en opérationnel : Courriel | G29: =IF($D$13<>"","A COMPLETER","")
E30: Joignable en opérationnel : Téléphone | G30: =IF($D$13<>"","A COMPLETER","")
C32: Important :
C33: Ce type de Matériel de votre parc a-t-il déjà été traité par le site : | F33: OUI / NON ( supprimer l'inutile)
C34: Pour un premier reprofilage, plan du Matériel Roulant et boites d'essieux sont également obligatoires dès votre demande. Une étude de compatibilité pourrait être nécessaire (annexe 2.8)
C36: 1. Prestation de reprofilage par SNCF Voyageurs
C37: cas N°1 : SNCF Voyageurs est l'ECE fonction 2 du Matériel Roulant du Candidat | G37: FALSE
C38: Le Matériel Roulant est géré par le SI Essieux et connu dans la GMAO | G38: FALSE | H38: Ne pas renseigner l'onglet "Donnée d'entrée"
C39: Le Matériel Roulant n'est pas géré par le SI Essieux et non connu dans la GMAO | G39: FALSE | H39: Renseignement de l'onglet "Données d'entrée" obligatoire
C41: Cas N°2 : SNCF Voyageurs n'est pas l'ECE fonction 2 du Matériel Roulant du Candidat : | G41: FALSE | H41: Renseignement de l'onglet "Données d'entrée" obligatoire
C42: Indiquer le motif du reprofilage :
C43: =IF($D$13<>"","A COMPLETER","") | E43: =IF($D$13<>"","A COMPLETER","") | G43: =IF($D$13<>"","A COMPLETER","")
C44: =IF($D$13<>"","A COMPLETER","") | E44: =IF($D$13<>"","A COMPLETER","") | G44: =IF($D$13<>"","A COMPLETER","")
C46: 2. Prestation de démontage/remontage/réglage par SNCF Voyageurs | G46: FALSE
C47: Obligatoire : Si SNCF Voyageurs n'est pas la fonction 2 de votre MR, vous devez fournir les documents de maintenance nécessaires à la réalisation des opérations dès votre demande.
C49: 3. Prestation de démontage /remontage/réglage en compte propre (MAD) par le candidat | H49: FALSE
C50: Obligatoire : Vous devez vous assurer que votre mainteneur est bien identifié dans le Plan de Prévention et spécifier vos besoins d'installations ci dessous
C52: 4. Mode de prise en charge : | G52: En compte propre - Mise à disposition installations (MAD) | I52: Durée souhaitée en heures
C53: Conduite par le candidat sous pilotage SNCF | E53: FALSE | G53: Fosse simple | H53: FALSE
C54: Prise en charge intégrale par SNCF | E54: FALSE | G54: ou Fosse triple | H54: FALSE
G55: Passerelle* | H55: FALSE
C56: Indiquer le Type d'attelage | G56: Pont roulant * | H56: FALSE
C57: Permet de vérifier la capacité du site à déplacer votre Matériel | G57: Autres : A renseigner ci-dessous | H57: FALSE
C59: Obligatoire : Le candidat doit communiquer en amont de son arrivée
C60: sur site, les sillons arrivée et départ de son Matériel
C62: (*) - Passerelle et Pont Roulant peuvent nécessiter un pilotage par le site réalisateur. En ce cas le devis est complété par une partie Main d'oeuvre SNCF Voyageurs.
C64: Partie 2 : A renseigner par le site réalisateur
C65: Accord après analyse de la demande du Candidat | E65: FALSE
C66: Indiquer le nombre d'essieux à reprofiler : | G66: Coordonnées du GEOPS | H66: Tel :
C67: Après analyse de l'onglet Données d'entrée TEF renseignées par le Candidat ou du SI Essieux | G67: Joignable en opérationnel | H67: Courriel :
C68: Date d'intervention proposée :
C69: Heure du RDV - début / Fin
C71: Refus après analyse de la demande du candidat | E71: FALSE
C72: Motiver obligatoirement le refus : Absence ou non validité du Plan de Prévention, risque technique, prise en charge du MR par SNCF Voyageurs impossible, autres motifs techniques
C76: 5. Mise à disposition installations : Ajouter Temps Main d'Oeuvres de pilotage associé (en heure) | H76: Le devis doit intégrer les prestations de :
C77: Fosse | D77: FALSE | H77: 1. Reprofilage
C78: Passerelle* | D78: FALSE | H78: 3. Mise à disposition des installations
C79: Pont roulant * | D79: FALSE | H79: 4. Prise en charge - formule mouvement
C80: Autres : A renseigner | D80: FALSE | H80: 5. Heures de pilotage des installations par agents SNCF
H81: 6. Le stationnement sur voies externes
C83: 6. Facturation du stationnement sur site
C84: Complément de facturation sur la base du garage réel sur site (Durée totale du stationnement - le temps intégré dans la prestation de reprofilage - le temps MAD des installations)
C86: Remarques du Site Réalisateur :
C89: Partie 3 : A renseigner par le Candidat et la PSEF
C90: Remarques du Candidat :
E92: Renseignement PSEF | H92: Signataire pour le Candidat
C94: Date de la demande : | G94: Date | H94: =IF($D$13<>"","A COMPLETER","")
C96: Date de la complétude* des informations : | G96: Nom | H96: =IF($D$13<>"","A COMPLETER","")
C98: Date de retour du site de réalisation : | G98: Qualité | H98: =IF($D$13<>"","A COMPLETER","")
G102: Signature
C110: (*) Le site réalisateur dispose de 48h pour répondre après complétude des informations transmises par le Candidat
J111: 2/6

Sheet Données d'entrée TEF 
A1: Offre de Référence Maintenance de SNCF Voyageurs valable pour l'horaire de service 2027 Annexe 2.3 : Demande de Reprofilage de Roues (TEF) et Opérations complémentaires ou Mise A Disposition d'Installations (MAD)
A2: Additif - Données d'entrée obligatoires à fournir par le candidat demandeur pour réaliser un reprofilage au tour en fosse - Dossier suivi par la PSEF
A4: Candidat: | B4: =Demande!$D$13 -> 0 | D4: Numero de Commande | G4: =+Demande!$D$6 -> 0
D5: ECE Fonction 2 | G5: ECE Fonction 3
A6: Matériel Roulant | D6: =+Demande!$E$23 | G6: =+Demande!$F$23
A7: Nom du Responsable | G7: =+Demande!$F$24
A8: Téléphone | G8: =+Demande!$F$25
A9: Courriel | G9: =+Demande!$F$26
A10: Organisation ECE 3 du candidat (3x8 - 7j/7 - 2x8 - 5j/7 - 1x8) | G10: =+Demande!$F$27
A12: Autres coordonnées ECE Fonction 3 : | D12: joignable en opérationnel : Courriel | G12: =+Demande!$G$29
D13: joignable en opérationnel : Téléphone | G13: =+Demande!$G$30
A14: Motif du reprofilage
A15: =Demande!$C$43
A16: Renseignement à fournir par le Candidat
A17: Le candidat souhaite-t-il réaliser lui-même les opérations complémentaires avant et après le reprofilage (démontage, remontage, réglage des organes mécaniques) ? OUI / NON | G17: Si "NON", l'ECE du MR devra impérativement distribuer au site réalisateur les documents de maintenance nécessaires aux opérations complémentaires.
A19: Mise à disposition d'une installation ? OUI / NON | G19: Faut-il désaccoupler les essieux ? OUI / NON
G20: Mesure des essieux non reprofilés ? OUI / NON
A22: Renseignements fournis par le Candidat | G22: Glossaire
A23: Type de Matériel Roulant | E23: =+Demande!$H$14 | G23: Ep. | H23: Épaisseur | J23: Ei / a1 | K23: Écartement des faces internes
A24: N° du Matériel | E24: =+Demande!$H$15 | G24: Ea / a2 | H24: Écartement des faces actives | J24: qR | K24: Quantité restante
A25: Vitesse maxi en service commercial (km/h) | E25: =+Demande!$H$17
A26: Renseignement à fournir par le Candidat - Caractéristiques géométriques et dimensionnelles attendues (EN 15313)
A27: Profil demandé (S 1002 ou 1/40 ème ou profil spécial) EN 13715 | G27: Hauteur de boudin | M27: Coordonnées du représentant technique du Candidat
A28: Valeur de la contre pente souhaitée (en accord avec les possibilités du tour, par défaut 15 %) | G28: Différence maximale entre les épaisseurs de boudins | M28: Date : | Q28: Heure :
A29: Diamètre limite après reprofilage (sillon apparent en totalité si utilisation en trafic international) | G29: Battement radial souhaité | M29: Nom et Fonction :
A30: Diamètre limite de maintien en service (dépend des règles paramétrables de l'ECE du candidat) | G30: Battement axial souhaité (uniquement si reprise des faces internes) | M30: Coordonnées :
A31: Différence de Ø entre 2 roues d'un même essieu | G31: Écartement des faces actives / a2
A32: Différence de Ø entre 2 essieux d'un même bogie | G32: Écartement des faces internes / a1
A33: Différence maximum entre les Ø des roues des différents bogies | G33: Largueur de jante bandage
A34: Autre(s) prestation(s)
A36: Commande de Travaux - Dernières valeurs géométriques et dimentionnelles enregistrées (Essieux concernés, ainsi que essieux et bogies adjacents)
A37: Position sous véhicule | B37: Numéro | C37: Type | D37: Motif de reprofilage | F37: Ø | H37: 'D' Ø | I37: Battement axial (1) | K37: Battement radial | M37: Saillie (1) | O37: Hauteur boudin | Q37: Epaisseur boudin | S37: qR | U37: Ei / a1 | V37: Ea / a2
F38: G | G38: D | I38: G | J38: D | K38: G | L38: D | M38: G | N38: D | O38: G | P38: D | Q38: G | R38: D | S38: G | T38: D
A39: 1 X 2
A40: 3 X 4
A41: 5 X 6
A42: 7 X 8
A48: (1) | B48: A renseigner que si motif de reprofilage. | H48: Nota: | I48: Toutes les cotes sont exprimées en millimètres avec une précision au 1/10 sauf pour le battement radial et axial qui doivent être exprimés au 1/100 | V48: 3/6

Sheet Opérations Complémentaires
B1: Offre de Référence Maintenance de SNCF Voyageurs valable pour l'horaire de service 2027 Annexe 2.3 : Demande de Reprofilage de Roues (TEF) et Opérations Complémentaires
B2: Traçabilité à fournir par le site pour la réalisation des opérations complémentaires (Démontage/Remontage/Réglage) - Dossier suivi par la PSEF
B3: Renseignements à vérifier par la PSEF sur la base des Données d'entrée du Candidat
B5: Candidat: | C5: =Demande!$D$13 -> 0 | E5: Numero de Commande | G5: =Demande!$D$6 -> 0
D6: ECE Fonction 2 | G6: ECE Fonction 3
B7: Matériel Roulant | D7: =Demande!$E$23 | G7: =Demande!$F$23
B8: Nom du Responsable | G8: =Demande!$F$24
B9: Téléphone | G9: =Demande!$F$25
B10: Courriel | G10: =Demande!$F$26
B11: Organisation ECE 3 du Candidat (3x8 - 7j/7 - 2x8 - 5j/7 - 1x8) | G11: =Demande!$F$27
B13: Autres coordonnées ECE Fonction 3 : | E13: joignable en opérationnel : Courriel | H13: =Demande!$G$29
E14: joignable en opérationnel : Téléphone | H14: =Demande!$G$30
B17: Type de Matériel Roulant | F17: =Demande!$H$14
B18: N° de Matériel Roulant | F18: =Demande!$H$15
B20: Données de sortie obligatoires à fournir par le site réalisateur après la réalisation des opérations complémentaires - Dossier suivi par la PSEF
B21: Renseignements à compléter par le site réalisateur - Opérations Complémentaires - Démontage / Remontage / Réglage - uniquement si les opérations sont réalisées par SNCF Voyageurs
B22: Opérations "Démontage / Remontage" réalisées : | H22: Opérations "Réglage" réalisées :
B23: GRAISSEURS de BOUDINS | E23: FALSE | H23: REGLAGES : Indiquer les différents réglages réalisés
B24: BROSSE de CONTACT | E24: FALSE
B25: CHASSE OBSTACLES | E25: FALSE
B26: CHASSE PIERRES | E26: FALSE
B27: Autres :
B28: Important : Si SNCF Voyageurs n'est pas l'ECE Fonction 2 du Candidat, vous devez utiliser les documents de maintenance transmis par le Candidat et non ceux de SNCF Voyageurs.
B29: Rappel des opérations "démontage/remontage/réglage" exclues du périmètre régulé (ORM) : Dans le cadre de la prestation de reprofilage, SNCF Voyageurs n’effectue pas les visites, tests (tels que les essais de frein) et contrôles postérieurs au reprofilage visant à vérifier l’aptitude du Matériel Roulant sur le RFN et en particulier sur les équipements de sécurité (KVB, ERTMS, enregistreurs, répétition signaux, odométrie, etc.…).
B31: Date de réalisation :
B32: Nom Prénom du réalisateur :
B34: Signature du réalisateur :
B36: FALSE | C36: Le produit de sortie opérations complémentaires est NON CONFORME | K36: FALSE | L36: Le produit de sortie opérations complémentaires est CONFORME
B37: Si NON CONFORME, préciser afin de permettre à l'ECE3 du candidat de décider : | K37: ARES (Avis De Remise En Service) - A transmettre à l'ECE3 du Candidat / GEOPS / PSEF
K38: L'ECE3 du candidat doit transmettre l'AREX (Avis de Remise En Exploitation) au GEOPS du site.
K39: SNCF Voyageurs ne peut être tenu responsable d'une remise à disposition du Matériel Roulant à l'Exploitant Ferroviaire
B40: Si le produit est non conforme prévenir rapidement votre COPROD / DPX / ADPX (en fonction de l'organisation du site réalisateur) L'ECE Fonction 3 du Candidat et le GEOPS du site doivent être prévenus dans les plus bref délais. Le MR ne pourra pas quitter le centre réalisateur sans les directives formalisées (mail) de l'ECE3 du candidat. | K40: sans que le Martériel Roulant ait fait l'objet d'un AREX.
B42: L'Avis de Remise En Service ne peut pas être délivré par le site réalisateur
B43: Signature par Equipe réalisatrice | K43: Signature par Equipe réalisatrice
B44: Date : | K44: Date :
B45: Fonction : | K45: Fonction :
B46: Signature : | K46: Signature :
S47: 4/6

Sheet Données de sortie TEF
B1: Offre de Référence Maintenance de SNCF Voyageurs valable pour l'horaire de service 2027 Annexe 2.3 : Demande de Reprofilage de Roues (TEF) et Opérations Complémentaires
B2: Données de sortie obligatoires à fournir par le site réalisateur après un reprofilage au tour en fosse - Dossier suivi par la PSEF
B3: PSEF - S'assurer du report des informations "données d'entrée" du Candidat | O3: Renseignements à compléter par le site Réalisateur
B5: Candidat: | C5: =Demande!$D$13 -> 0 | E5: Numero de Commande | H5: =Demande!$D$6 -> 0 | P5: Date de réalisation du reprofilage :
E6: ECE Fonction 2 | H6: ECE Fonction 3 | P6: Nom Prénom du réalisateur :
B7: Matériel Roulant | E7: =Demande!$E$23 | H7: =Demande!$F$23 | P7: Signature du réalisateur :
B8: Nom du Responsable | H8: =Demande!$F$24
B9: Téléphone | H9: =Demande!$F$25 | P9: FALSE | Q9: Le produit de sortie du TEF est CONFORME
B10: Courriel | H10: =Demande!$F$26 | P10: ARES (Avis De Remise En Service) - A transmettre à l'ECE3 / GEOPS / PSEF
B11: Organisation ECE 3 du Candidat (3x8 - 7j/7 - 2x8 - 5j/7 - 1x8) | H11: =Demande!$F$27 | P11: L'ECE3 du candidat doit transmettre l'AREX (Avis de Remise En Exploitation) au GEOPS du site
P12: SNCF Voyageurs ne peut être tenu responsable d'une remise à disposition du Matériel Roulant
B13: Autres coordonnées ECE Fonction 3 : | E13: joignable en opérationnel : Courriel | H13: =Demande!$G$29 | P13: à l'exploitant ferroviaire (EF) sans que le Matériel Roulant ait fait l'objet d'un AREX.
E14: joignable en opérationnel : Téléphone | H14: =Demande!$G$30
B15: Motif du reprofilage :
B16: =Demande!$C$43
P17: Signature Equipe Tour En Fosse
B18: Le candidat souhaite-t-il réaliser lui-même les opérations connexes avant et après le reprofilage (démontage, remontage, réglage des organes mécaniques) ? OUI / NON | F18: ='Données d''entrée TEF '!$E$17 -> 0 | H18: Si "NON", l'ECE du MR devra impérativement distribuer au site réalisateur les documents de maintenance nécessaires aux opérations complémentaires. Le site devra renseigner la traçabilité "Opérations Complémentaires" | P18: Date :
P19: Nom et Fonction :
B20: Mise à disposition d'une installationn ? OUI / NON | F20: ='Données d''entrée TEF '!$E$19 -> 0 | H20: Faut-il désaccoupler les essieux ? OUI / NON | L20: ='Données d''entrée TEF '!$K$19 -> 0 | P20: Signature :
H21: Mesure des essieux non reprofilés ? OUI / NON | L21: ='Données d''entrée TEF '!$K$20 -> 0
B23: PSEF - S'assurer du report des informations | H23: Glossaire | P23: FALSE | Q23: Le produit de sortie du TEF est NON CONFORME
B24: Type de Matériel Roulant | F24: =Demande!$H$14 | H24: Ep. | I24: Épaisseur | K24: Ei / a1 | L24: Écartement des faces internes | P24: Si NON CONFORME, préciser afin de permettre à l'ECE3 du candidat de décider :
B25: N° de Matériel Roulant | F25: =Demande!$H$15 | H25: Ea / a2 | I25: Écartement des faces actives | K25: qR | L25: Quantité restante
B26: Vitesse maxi en service commercial (km/h) | F26: =Demande!$H$17 | P26: Si le produit est non conforme prévenir rapidement votre COPROD / DPX / ADPX (en fonction de l'organisation du site réalisateur). L'ECE Fonction 3 du Candidat et le GEOPS du site doivent être prévenus dans les plus bref délais. Le MR ne pourra pas quitter le centre réalisateur sans les directives formalisées de l'ECE fonction 3 du candidat.
B27: PSEF - S'assurer du report des informations "données d'entrée" du Candidat
B28: Profil demandé (S 1002 ou 1/40 ème ou profil spécial) EN 13715 | F28: ='Données d''entrée TEF '!$E$27 -> 0 | H28: Hauteur de bondin | L28: ='Données d''entrée TEF '!$K$27 -> 0
B29: Valeur de la contre pente souhaitée (en accord avec les possibilités du tour, par défaut 15 %) | F29: ='Données d''entrée TEF '!$E$28 -> 0 | H29: Différence maximale entre les épaisseurs de boudins | L29: ='Données d''entrée TEF '!$K$28 -> 0 | P29: L'Avis de Remise En Service ne peut pas être délivré par le site réalisateur
B30: Diamètre limite après reprofilage (sillon apparent en totalité si utilisation en trafic international) | F30: ='Données d''entrée TEF '!$E$29 -> 0 | H30: Battement radial souhaité | L30: ='Données d''entrée TEF '!$K$29 -> 0 | P30: Signature Equipe Tour En Fosse
B31: Diamètre limite de maintien en service (dépend des règles paramétrables de l'ECE du candidat) | F31: ='Données d''entrée TEF '!$E$30 -> 0 | H31: Battement axial souhaité (uniquement si reprise des faces internes) | L31: ='Données d''entrée TEF '!$K$30 -> 0 | P31: Date :
B32: Différence de Ø entre 2 roues d'un même essieu | F32: ='Données d''entrée TEF '!$E$31 -> 0 | H32: Écartement des faces actives / a2 | L32: ='Données d''entrée TEF '!$K$31 -> 0 | P32: Nom et Fonction :
B33: Différence de Ø entre 2 essieux d'un même bogie | F33: ='Données d''entrée TEF '!$E$32 -> 0 | H33: Écartement des faces internes / a1 | L33: ='Données d''entrée TEF '!$K$32 -> 0 | P33: Signature :
B34: Différence maximum entre les Ø des roues des différents bogies | F34: ='Données d''entrée TEF '!$E$33 -> 0 | H34: Largueur de jante bandage | L34: ='Données d''entrée TEF '!$K$33 -> 0
B35: Autre(s) prestation(s) | F35: ='Données d''entrée TEF '!$E$34 -> 0
B36: Renseignements à compléter par le site réalisateur après reprofilage sur les essieux traités
B37: Position sous véhicule | C37: Numéro | D37: Type | E37: Motif de reprofilage | G37: Ø | I37: 'D' Ø | J37: Battement axial (1) | L37: Battement radial | N37: Saillie (1) | P37: Hauteur boudin | R37: Epaisseur boudin | T37: qR | V37: Ei / a1 | W37: Ea / a2
G38: G | H38: D | J38: G | K38: D | L38: G | M38: D | N38: G | O38: D | P38: G | Q38: D | R38: G | S38: D | T38: G | U38: D
B39: 1 X 2
B40: 3 X 4
B41: 5 X 6
B42: 7 X 8
B48: (1) | C48: A renseigner que si motif de reprofilage. | I48: Nota: | J48: Toutes les cotes sont exprimées en millimètres avec une précision au 1/10 sauf pour le battement radial et axial qui doivent être exprimés au 1/100 | W48: 5/6

Sheet Suivi Commande
B1: Offre de Référence Maintenance de SNCF Voyageurs valable pour l'horaire de service 2027 Annexe 2.3 : Demande de Reprofilage de Roues (TEF) et Opérations Complémentaires
B2: Offre de Référence Maintenance de SNCF Voyageurs valable pour l'horaire de service 2027 Annexe 2.3 : Demande de Reprofilage de Roues (TEF) et Opérations Connexes ou Mise A Disposition d'Installations (MAD)
A3: PSEF - S'assurer du report des informations "Demande" du Candidat
B4: Renseigné par PSEF
B5: Numéro de Commande : | D5: =+Demande!$D$6 -> 0 | F5: Date validée : | G5: =Demande!$H$6 -> 0
B7: Copier/coller feuillet Commande
B8: Candidat : | C8: =+Demande!$D$13 -> 0 | F8: Type de Matériel Roulant : | G8: =Demande!$H$14
B9: Raison sociale : | C9: =Demande!$D$14 | F9: N° du Matériel Roulant : | G9: =Demande!$H$15
B10: Centre d'Entretien TEF : | C10: =Demande!$D$16
B11: N° du Plan de prévention : | C11: =Demande!$D$18
B14: Copier/coller feuillet "Commande"
C15: ECE Fonction 1 | D15: ECE Fonction 2 | E15: ECE Fonction 3 (Programmation - AREX) | G15: ECE Fonction 4 (si en compte propre)
B16: Matériel Roulant | C16: =Demande!$D$23 | D16: =Demande!$E$23 | E16: =Demande!$F$23 | G16: =Demande!$H$23 -> 0
B17: Nom du Responsable | E17: =Demande!$F$24 | G17: =Demande!$H$24 -> 0
B18: Téléphone | E18: =Demande!$F$25 | G18: =Demande!$H$25 -> 0
B19: Courriel | E19: =Demande!$F$26 | G19: =Demande!$H$26 -> 0
B20: Organisation ECE 3 du Candidat (3x8 - 7j/7 - 2x8 - 5j/7 - 1x8) | E20: =Demande!$F$27
B22: Autres coordonnées ECE Fonction 3 : | D22: Joignable en opérationnel : Courriel | F22: =Demande!$G$29
D23: joignable en opérationnel : Téléphone | F23: =Demande!$G$30
A25: Données à compléter par le site réalisateur
B26: GEOPS
B27: Communiqué par le Candidat à la PSEF et GEOPS
B28: Sillon arrivée date/heure : | C28: =Demande!$D$8 | D28: =Demande!$E$8 | E28: Arrivée sur site :
B29: Sillon départ date/heure: | C29: =Demande!$D$9 | D29: =Demande!$E$9
E31: Transmission AREX par l'ECE fonction 3 du Candidat
E32: Date
E33: Heure
E35: Départ du site :
B37: COPROD / EQUIPES PRODUCTION
E38: Transmission ARES ou Avis de Non Conformité à l'ECE fonction 3 du Candidat et au GEOPS
E39: Date
E40: Heure
E42: En cas de Non Conformité, retour des directives par l'ECE fonction 3 du Candidat
E43: Immédiat | F43: FALSE
D44: ou | E44: Date
E45: Heure
E46: Il est nécessaire de demander une formalisation des directives. Un courriel est obligatoire + archivage
E48: Mise à disposition des installations :
E49: Date :
E50: Heure début :
E51: Heure de fin :
B53: SECURITE - Des écarts ont-ils été identifiés - si oui, documenter l'écart
E55: Oui | F55: Résumer l'écart svp :
D56: Sécurité du personnel | E56: FALSE
D57: Environnentaux | E57: FALSE
D58: Dégradation | E58: FALSE
D59: Autres | E59: FALSE
B63: Remarques du SNCF Voyageurs :
I65: 6/6
