Workbook
Name AURA: Tableau2[AURA]
Name BFC: Tableau3[BFC]
Name BPL: Tableau4[BPL]
Name CVL: Tableau5[CVL]
Name GE: Tableau6[GE]
Name HDF: Tableau8[HDF]
Name HDSbis: 'Paramètre (masquer)'!$AI$3:$AK$5
Name IDF: Tableau9[IDF]
Name NA: Tableau10[NA]
Name OCC: Tableau12[OCC]
Name PACA: Tableau13[PACA]

Sheet Mode d'emploi
A2: FORMULAIRE DE DEMANDE DE STATIONNEMENT DE NUIT SUR VOIES PRINCIPALES EN GARE DE VOYAGEURS
A3: MODE D'EMPLOI
B5: Pour toutes questions sur la complétude du fichier, contacter la PSEF : services.psef@sncf.fr
B7: Horaire de service :
B8: Service Annuel :  SA 2023 (du 11/12/2023 au 09/12/2022) | C8:  SA 2025 (du 15/12/2024 au 13/12/2025)
C9:  SA 2026 (du 14/12/2025 au 12/12/2026)
B11: Direction Territoriale SNCF Réseau :
B12: Le candidat doit impérativement soumettre une demande (= un fichier) par périmètre de Direction Territoriale SNCF Réseau. C'est un préalable obligatoire pour pouvoir sélectionner ensuite des sites dépendant du périmètre de celle-ci. Exemple : si besoin de capacité d'Ambérieu ou Strasbourg, à Alors renseigner un formulaire pour la DT Auvergne Rhone Alpes pour Ambérieu ET un formulaire pour la DT Grand-Est pour Strasbourg
B14: Gares :
B15: A choisir dans la liste déroulante des gares dépendant de la DT SNCF Réseau (à sélectionner obligatoirement au préalable)
B18: Longueur minimale demandée en ml
B19: Pour une gare donnée, par exemple, indiquer la capacité souhaitée sur la VP en ml (en fonction du matériel remisé et du nombre de trains pour une même gare)
B21: Régime :
B22: Renseigner le régime (ou fréquence) de circulation prévu :
B23: La période considérée étant 00h/5h00, il faudra indiquer clairement l'heure et la date de début de stationnement (arrivée du train) de chaque matériel
B24: Par exemple : | C24:  Régime d'utilisation (En cochant quotidien "Oui", les champs seront complétés automatiquement et signifie que le train stationnera toutes les nuits sur période demandée)
C25:  Nuit LU/MA (signifie que le train est prévu de stationner toutes les nuits du lundi au mardi pendant la période demandée)
C26:  FE : jour de fêtes ( le 1er janvier, le lundi de Pâques, le 1er mai, le 8 mai, l'Ascension, le lundi de Pentecôte, le 14 juillet, le 15 août, le 1er novembre, le 11 novembre et le 25 décembre)
B28: Période :
B29: Renseigner la période de l'année concernée
B30: Par exemple :  SA 2024 est indiqué par défaut (du 10/12/2023 au 14/12/2024)
C31: Il est possible de modifier la période entre ces deux dates
C32:  1/7/2024 au 31/8/2024 (dates début et fin, si demande d'une période particulière)
B34: Numéro de voie souhaité ;
B35: La demande s'exprime par une expression de capacité en mètres linéaires de voie. En complément, l'entreprise peut indiquer les numéros des voies qu'elle souhaite se voir allouer, mais sans garantie d'obtention.
B39: Prospection :
B40: NON : besoin ferme du candidat ; OUI : besoin pour une prospection commerciale en cours
B42: Commentaires O/D :
B43: Observations complémentaires sur le souhait du candidat, facilitant le traitement de la demande. Par exemple : Origine/Destination

Sheet Calendrier
A2: CALENDRIER D'INSTRUCTION DES DEMANDES D'ALLOCATION DE CAPACITÉ
A3: VOIES DE SERVICE À USAGE COURANT
B4: (cf. DRR chap. 7.3.5.6 b)

Sheet Demandes VP
B2: Horaire de service * : | C2: 2025 | D2: =_xlfn.CONCAT("Du ",TEXT('Paramètre (masquer)'!$A$54,"jj/mm/aaaa")," au ",TEXT('Paramètre (masquer)'!$B$54,"jj/mm/aaaa")) -> Du 15/12/2024 au 13/12/2025 | E2: Identité du demandeur * : | M2: Rappel : Calendrier d'envoi des demandes pour l'année A (cf. DRR chap. 7.3.5.6 a) et b)
B4: Date de la demande * : | E4: Coordonnées du demandeur (courriel, tel.) * : | M4:  Demandes initiales : jusqu'au 15 juin année A-1
B6: Raison sociale du demandeur * : | E6: Direction Territoriale SNCF Réseau * : | M6:  Demandes complémentaires : du 16 juin au 15 octobre année A-1
B8: Les champs marqués d'un astérisque * sont à compléter obligatoirement par le Candidat, à défaut, la demande sera considérée comme incomplète et sera retournée au Candidat sans instruction. | M8:  Demandes tardives ou ad hoc : du 16 octobre année A-1 à fin de SA année A
B10: Consulter l'onglet "Mode d'emploi" au préalable
H11: Si quotidien = "Non" alors saisir "oui" les jours concernées | U11: A verouiller | AL11: A masquer (Oui = 0 et Non =1) | AT11: A masquer + Vérouil | AW11: A masquer
B12: Localisation | D12: Capacité demandée | Q12: Caractéristiques des Voie(s) demandée(s) | U12: Objectivation de la demande | Y12: Zone Réservée à SNCF Réseau - EIC et DT Réseau
A13: Index | B13: Site * Un fichier Excel par DT | C13: EIC | D13: Longueur minimale demandée en ml | E13: Période de début * | F13: Période de fin * | G13: Régime d'utilisation (Quotidien ? Oui ou Non) | H13: Nuit LU/MA | I13: Nuit MA/ME | J13: Nuit ME/JE | K13: Nuit JE/VE | L13: Nuit VE/SA | M13: Nuit SA/DI | N13: Nuit DI/LU | O13: FE | P13: Nombre de train accédant / nuit * | Q13: Numéro de voie souhaité | R13: Electrifi cation * | S13: Remisage de nuit | T13: Contraintes / Autres | U13: Type d'activité | V13: N° sillon ou N° commande | W13: Prospection | X13: Commentaires O/D | Y13: Type de réponse | Z13: ID VS | AA13: N° de Voie allouée | AB13: Longueur utile totale allouée en ml | AC13: Période début | AD13: Période fin | AE13: Nuit LU /MA | AF13: Nuit MA/ ME | AG13: Nuit ME/ JE | AH13: Nuit JE/ VE | AI13: Nuit VE/ SA | AJ13: Nuit SA/ DI | AK13: Nuit DI/ LU | AL13: LUN | AM13: MAR | AN13: MER | AO13: JEU | AP13: VEN | AQ13: SAM | AR13: DIM | AS13: FER | AT13: CONCAT | AU13: Motifs du refus | AV13: Modèle contractuel retenu | AW13: Nbre de nuits sur la période | AX13: Uo voies - nuit | AY13: Redevance
A14: 1 | C14: =IFERROR(VLOOKUP(Tableau1[[#This Row],[Site * Un fichier Excel par DT]],Tableau7[[#All],[Nom de la gare]:[EIC]],5,FALSE),"") | H14: =IF(Tableau1[[#This Row],[Régime d''utilisation (Quotidien ? Oui ou Non)]]="Oui","Oui","Non") -> Non | I14: =IF(Tableau1[[#This Row],[Régime d''utilisation (Quotidien ? Oui ou Non)]]="Oui","Oui","Non") -> Non | J14: =IF(Tableau1[[#This Row],[Régime d''utilisation (Quotidien ? Oui ou Non)]]="Oui","Oui","Non") -> Non | K14: =IF(Tableau1[[#This Row],[Régime d''utilisation (Quotidien ? Oui ou Non)]]="Oui","Oui","Non") -> Non | L14: =IF(Tableau1[[#This Row],[Régime d''utilisation (Quotidien ? Oui ou Non)]]="Oui","Oui","Non") -> Non | M14: =IF(Tableau1[[#This Row],[Régime d''utilisation (Quotidien ? Oui ou Non)]]="Oui","Oui","Non") -> Non | N14: =IF(Tableau1[[#This Row],[Régime d''utilisation (Quotidien ? Oui ou Non)]]="Oui","Oui","Non") -> Non | O14: =IF(Tableau1[[#This Row],[Régime d''utilisation (Quotidien ? Oui ou Non)]]="Oui","Oui","Non") -> Non | S14: ="Compris entre 00h00 et 5h00" -> Compris entre 00h00 et 5h00 | U14: ="Voyageur" -> Voyageur | AB14: =400 -> 400 | AC14: =IF(Tableau1[[#This Row],[Type de réponse]]='Paramètre (masquer)'!$A$10,Tableau1[[#This Row],[Période de début *]],"") | AD14: =IF(Tableau1[[#This Row],[Type de réponse]]='Paramètre (masquer)'!$A$10,Tableau1[[#This Row],[Période de fin *]],"") | AE14: =IF(Tableau1[[#This Row],[Type de réponse]]='Paramètre (masquer)'!$A$10,Tableau1[[#This Row],[Nuit LU/MA]],"") | AF14: =IF(Tableau1[[#This Row],[Type de réponse]]='Paramètre (masquer)'!$A$10,Tableau1[[#This Row],[Nuit MA/ME]],"") | AG14: =IF(Tableau1[[#This Row],[Type de réponse]]='Paramètre (masquer)'!$A$10,Tableau1[[#This Row],[Nuit ME/JE]],"") | AH14: =IF(Tableau1[[#This Row],[Type de réponse]]='Paramètre (masquer)'!$A$10,Tableau1[[#This Row],[Nuit JE/VE]],"") | AI14: =IF(Tableau1[[#This Row],[Type de réponse]]='Paramètre (masquer)'!$A$10,Tableau1[[#This Row],[Nuit VE/SA]],"") | AJ14: =IF(Tableau1[[#This Row],[Type de réponse]]='Paramètre (masquer)'!$A$10,Tableau1[[#This Row],[Nuit SA/DI]],"") | AK14: =IF(Tableau1[[#This Row],[Type de réponse]]='Paramètre (masquer)'!$A$10,Tableau1[[#This Row],[Nuit DI/LU]],"") | AL14: =IF(Tableau1[[#This Row],[Nuit LU /MA]]="Oui",0,IF(Tableau1[[#This Row],[Nuit LU /MA]]="Non",1,"")) | AM14: =IF(Tableau1[[#This Row],[Nuit MA/ ME]]="Oui",0,IF(Tableau1[[#This Row],[Nuit MA/ ME]]="Non",1,"")) | AN14: =IF(Tableau1[[#This Row],[Nuit ME/ JE]]="Oui",0,IF(Tableau1[[#This Row],[Nuit ME/ JE]]="Non",1,"")) | AO14: =IF(Tableau1[[#This Row],[Nuit JE/ VE]]="Oui",0,IF(Tableau1[[#This Row],[Nuit JE/ VE]]="Non",1,"")) | AP14: =IF(Tableau1[[#This Row],[Nuit VE/ SA]]="Oui",0,IF(Tableau1[[#This Row],[Nuit VE/ SA]]="Non",1,"")) | AQ14: =IF(Tableau1[[#This Row],[Nuit SA/ DI]]="Oui",0,IF(Tableau1[[#This Row],[Nuit SA/ DI]]="Non",1,"")) | AR14: =IF(Tableau1[[#This Row],[Nuit DI/ LU]]="Oui",0,IF(Tableau1[[#This Row],[Nuit DI/ LU]]="Non",1,"")) | AS14: =IF(Tableau1[[#This Row],[Type de réponse]]='Paramètre (masquer)'!$A$10,Tableau1[[#This Row],[FE]],"") | AT14: =_xlfn.CONCAT(Tableau1[[#This Row],[LUN]:[DIM]]) | AV14: =IF(OR(Tableau1[[#This Row],[Type de réponse]]='Paramètre (masquer)'!$A$10,Tableau1[[#This Row],[Type de réponse]]='Paramètre (masquer)'!$A$11,Tableau1[[#This Row],[Type de réponse]]='Paramètre (masquer)'!$A$12),"Déclaratif","") | AW14: =IF(Tableau1[[#This Row],[FER]]="Oui",NETWORKDAYS.INTL(Tableau1[[#This Row],[Période début]],Tableau1[[#This Row],[Période fin]],Tableau1[[#This Row],[CONCAT]]),NETWORKDAYS.INTL(Tableau1[[#This Row],[Période début]],Tableau1[[#This Row],[Période fin]],Tableau1[[#This Row],[CONCAT]],'Paramètre (masquer)'!$A$18:$A$50)) -> #VALUE! | AX14: =Tableau1[[#This Row],[Nbre de nuits sur la période]]*Tableau1[[#This Row],[Nombre de train accédant / nuit *]] -> #VALUE! | AY14: =Tableau1[[#This Row],[Uo voies - nuit]]*((59*400/1000)+5) -> #VALUE!
A15: =1+A14 -> 2 | C15: =IFERROR(VLOOKUP(Tableau1[[#This Row],[Site * Un fichier Excel par DT]],Tableau7[[#All],[Nom de la gare]:[EIC]],5,FALSE),"") | H15: =IF(Tableau1[[#This Row],[Régime d''utilisation (Quotidien ? Oui ou Non)]]="Oui","Oui","Non") -> Non | I15: =IF(Tableau1[[#This Row],[Régime d''utilisation (Quotidien ? Oui ou Non)]]="Oui","Oui","Non") -> Non | J15: =IF(Tableau1[[#This Row],[Régime d''utilisation (Quotidien ? Oui ou Non)]]="Oui","Oui","Non") -> Non | K15: =IF(Tableau1[[#This Row],[Régime d''utilisation (Quotidien ? Oui ou Non)]]="Oui","Oui","Non") -> Non | L15: =IF(Tableau1[[#This Row],[Régime d''utilisation (Quotidien ? Oui ou Non)]]="Oui","Oui","Non") -> Non | M15: =IF(Tableau1[[#This Row],[Régime d''utilisation (Quotidien ? Oui ou Non)]]="Oui","Oui","Non") -> Non | N15: =IF(Tableau1[[#This Row],[Régime d''utilisation (Quotidien ? Oui ou Non)]]="Oui","Oui","Non") -> Non | O15: =IF(Tableau1[[#This Row],[Régime d''utilisation (Quotidien ? Oui ou Non)]]="Oui","Oui","Non") -> Non | S15: ="Compris entre 00h00 et 5h00" -> Compris entre 00h00 et 5h00 | U15: ="Voyageur" -> Voyageur | AB15: =400 -> 400 | AC15: =IF(Tableau1[[#This Row],[Type de réponse]]='Paramètre (masquer)'!$A$10,Tableau1[[#This Row],[Période de début *]],"") | AD15: =IF(Tableau1[[#This Row],[Type de réponse]]='Paramètre (masquer)'!$A$10,Tableau1[[#This Row],[Période de fin *]],"") | AE15: =IF(Tableau1[[#This Row],[Type de réponse]]='Paramètre (masquer)'!$A$10,Tableau1[[#This Row],[Nuit LU/MA]],"") | AF15: =IF(Tableau1[[#This Row],[Type de réponse]]='Paramètre (masquer)'!$A$10,Tableau1[[#This Row],[Nuit MA/ME]],"") | AG15: =IF(Tableau1[[#This Row],[Type de réponse]]='Paramètre (masquer)'!$A$10,Tableau1[[#This Row],[Nuit ME/JE]],"") | AH15: =IF(Tableau1[[#This Row],[Type de réponse]]='Paramètre (masquer)'!$A$10,Tableau1[[#This Row],[Nuit JE/VE]],"") | AI15: =IF(Tableau1[[#This Row],[Type de réponse]]='Paramètre (masquer)'!$A$10,Tableau1[[#This Row],[Nuit VE/SA]],"") | AJ15: =IF(Tableau1[[#This Row],[Type de réponse]]='Paramètre (masquer)'!$A$10,Tableau1[[#This Row],[Nuit SA/DI]],"") | AK15: =IF(Tableau1[[#This Row],[Type de réponse]]='Paramètre (masquer)'!$A$10,Tableau1[[#This Row],[Nuit DI/LU]],"") | AL15: =IF(Tableau1[[#This Row],[Nuit LU /MA]]="Oui",0,IF(Tableau1[[#This Row],[Nuit LU /MA]]="Non",1,"")) | AM15: =IF(Tableau1[[#This Row],[Nuit MA/ ME]]="Oui",0,IF(Tableau1[[#This Row],[Nuit MA/ ME]]="Non",1,"")) | AN15: =IF(Tableau1[[#This Row],[Nuit ME/ JE]]="Oui",0,IF(Tableau1[[#This Row],[Nuit ME/ JE]]="Non",1,"")) | AO15: =IF(Tableau1[[#This Row],[Nuit JE/ VE]]="Oui",0,IF(Tableau1[[#This Row],[Nuit JE/ VE]]="Non",1,"")) | AP15: =IF(Tableau1[[#This Row],[Nuit VE/ SA]]="Oui",0,IF(Tableau1[[#This Row],[Nuit VE/ SA]]="Non",1,"")) | AQ15: =IF(Tableau1[[#This Row],[Nuit SA/ DI]]="Oui",0,IF(Tableau1[[#This Row],[Nuit SA/ DI]]="Non",1,"")) | AR15: =IF(Tableau1[[#This Row],[Nuit DI/ LU]]="Oui",0,IF(Tableau1[[#This Row],[Nuit DI/ LU]]="Non",1,"")) | AS15: =IF(Tableau1[[#This Row],[Type de réponse]]='Paramètre (masquer)'!$A$10,Tableau1[[#This Row],[FE]],"") | AT15: =_xlfn.CONCAT(Tableau1[[#This Row],[LUN]:[DIM]]) | AV15: =IF(OR(Tableau1[[#This Row],[Type de réponse]]='Paramètre (masquer)'!$A$10,Tableau1[[#This Row],[Type de réponse]]='Paramètre (masquer)'!$A$11,Tableau1[[#This Row],[Type de réponse]]='Paramètre (masquer)'!$A$12),"Déclaratif","") | AW15: =IF(Tableau1[[#This Row],[FER]]="Oui",NETWORKDAYS.INTL(Tableau1[[#This Row],[Période début]],Tableau1[[#This Row],[Période fin]],Tableau1[[#This Row],[CONCAT]]),NETWORKDAYS.INTL(Tableau1[[#This Row],[Période début]],Tableau1[[#This Row],[Période fin]],Tableau1[[#This Row],[CONCAT]],'Paramètre (masquer)'!$A$18:$A$50)) -> #VALUE! | AX15: =Tableau1[[#This Row],[Nbre de nuits sur la période]]*Tableau1[[#This Row],[Nombre de train accédant / nuit *]] -> #VALUE! | AY15: =Tableau1[[#This Row],[Uo voies - nuit]]*((59*400/1000)+5) -> #VALUE!
A16: =1+A15 -> 3 | C16: =IFERROR(VLOOKUP(Tableau1[[#This Row],[Site * Un fichier Excel par DT]],Tableau7[[#All],[Nom de la gare]:[EIC]],5,FALSE),"") | H16: =IF(Tableau1[[#This Row],[Régime d''utilisation (Quotidien ? Oui ou Non)]]="Oui","Oui","Non") -> Non | I16: =IF(Tableau1[[#This Row],[Régime d''utilisation (Quotidien ? Oui ou Non)]]="Oui","Oui","Non") -> Non | J16: =IF(Tableau1[[#This Row],[Régime d''utilisation (Quotidien ? Oui ou Non)]]="Oui","Oui","Non") -> Non | K16: =IF(Tableau1[[#This Row],[Régime d''utilisation (Quotidien ? Oui ou Non)]]="Oui","Oui","Non") -> Non | L16: =IF(Tableau1[[#This Row],[Régime d''utilisation (Quotidien ? Oui ou Non)]]="Oui","Oui","Non") -> Non | M16: =IF(Tableau1[[#This Row],[Régime d''utilisation (Quotidien ? Oui ou Non)]]="Oui","Oui","Non") -> Non | N16: =IF(Tableau1[[#This Row],[Régime d''utilisation (Quotidien ? Oui ou Non)]]="Oui","Oui","Non") -> Non | O16: =IF(Tableau1[[#This Row],[Régime d''utilisation (Quotidien ? Oui ou Non)]]="Oui","Oui","Non") -> Non | S16: ="Compris entre 00h00 et 5h00" -> Compris entre 00h00 et 5h00 | U16: ="Voyageur" -> Voyageur | AB16: =400 -> 400 | AC16: =IF(Tableau1[[#This Row],[Type de réponse]]='Paramètre (masquer)'!$A$10,Tableau1[[#This Row],[Période de début *]],"") | AD16: =IF(Tableau1[[#This Row],[Type de réponse]]='Paramètre (masquer)'!$A$10,Tableau1[[#This Row],[Période de fin *]],"") | AE16: =IF(Tableau1[[#This Row],[Type de réponse]]='Paramètre (masquer)'!$A$10,Tableau1[[#This Row],[Nuit LU/MA]],"") | AF16: =IF(Tableau1[[#This Row],[Type de réponse]]='Paramètre (masquer)'!$A$10,Tableau1[[#This Row],[Nuit MA/ME]],"") | AG16: =IF(Tableau1[[#This Row],[Type de réponse]]='Paramètre (masquer)'!$A$10,Tableau1[[#This Row],[Nuit ME/JE]],"") | AH16: =IF(Tableau1[[#This Row],[Type de réponse]]='Paramètre (masquer)'!$A$10,Tableau1[[#This Row],[Nuit JE/VE]],"") | AI16: =IF(Tableau1[[#This Row],[Type de réponse]]='Paramètre (masquer)'!$A$10,Tableau1[[#This Row],[Nuit VE/SA]],"") | AJ16: =IF(Tableau1[[#This Row],[Type de réponse]]='Paramètre (masquer)'!$A$10,Tableau1[[#This Row],[Nuit SA/DI]],"") | AK16: =IF(Tableau1[[#This Row],[Type de réponse]]='Paramètre (masquer)'!$A$10,Tableau1[[#This Row],[Nuit DI/LU]],"") | AL16: =IF(Tableau1[[#This Row],[Nuit LU /MA]]="Oui",0,IF(Tableau1[[#This Row],[Nuit LU /MA]]="Non",1,"")) | AM16: =IF(Tableau1[[#This Row],[Nuit MA/ ME]]="Oui",0,IF(Tableau1[[#This Row],[Nuit MA/ ME]]="Non",1,"")) | AN16: =IF(Tableau1[[#This Row],[Nuit ME/ JE]]="Oui",0,IF(Tableau1[[#This Row],[Nuit ME/ JE]]="Non",1,"")) | AO16: =IF(Tableau1[[#This Row],[Nuit JE/ VE]]="Oui",0,IF(Tableau1[[#This Row],[Nuit JE/ VE]]="Non",1,"")) | AP16: =IF(Tableau1[[#This Row],[Nuit VE/ SA]]="Oui",0,IF(Tableau1[[#This Row],[Nuit VE/ SA]]="Non",1,"")) | AQ16: =IF(Tableau1[[#This Row],[Nuit SA/ DI]]="Oui",0,IF(Tableau1[[#This Row],[Nuit SA/ DI]]="Non",1,"")) | AR16: =IF(Tableau1[[#This Row],[Nuit DI/ LU]]="Oui",0,IF(Tableau1[[#This Row],[Nuit DI/ LU]]="Non",1,"")) | AS16: =IF(Tableau1[[#This Row],[Type de réponse]]='Paramètre (masquer)'!$A$10,Tableau1[[#This Row],[FE]],"") | AT16: =_xlfn.CONCAT(Tableau1[[#This Row],[LUN]:[DIM]]) | AV16: =IF(OR(Tableau1[[#This Row],[Type de réponse]]='Paramètre (masquer)'!$A$10,Tableau1[[#This Row],[Type de réponse]]='Paramètre (masquer)'!$A$11,Tableau1[[#This Row],[Type de réponse]]='Paramètre (masquer)'!$A$12),"Déclaratif","") | AW16: =IF(Tableau1[[#This Row],[FER]]="Oui",NETWORKDAYS.INTL(Tableau1[[#This Row],[Période début]],Tableau1[[#This Row],[Période fin]],Tableau1[[#This Row],[CONCAT]]),NETWORKDAYS.INTL(Tableau1[[#This Row],[Période début]],Tableau1[[#This Row],[Période fin]],Tableau1[[#This Row],[CONCAT]],'Paramètre (masquer)'!$A$18:$A$50)) -> #VALUE! | AX16: =Tableau1[[#This Row],[Nbre de nuits sur la période]]*Tableau1[[#This Row],[Nombre de train accédant / nuit *]] -> #VALUE! | AY16: =Tableau1[[#This Row],[Uo voies - nuit]]*((59*400/1000)+5) -> #VALUE!
A17: =1+A16 -> 4 | C17: =IFERROR(VLOOKUP(Tableau1[[#This Row],[Site * Un fichier Excel par DT]],Tableau7[[#All],[Nom de la gare]:[EIC]],5,FALSE),"") | H17: =IF(Tableau1[[#This Row],[Régime d''utilisation (Quotidien ? Oui ou Non)]]="Oui","Oui","Non") -> Non | I17: =IF(Tableau1[[#This Row],[Régime d''utilisation (Quotidien ? Oui ou Non)]]="Oui","Oui","Non") -> Non | J17: =IF(Tableau1[[#This Row],[Régime d''utilisation (Quotidien ? Oui ou Non)]]="Oui","Oui","Non") -> Non | K17: =IF(Tableau1[[#This Row],[Régime d''utilisation (Quotidien ? Oui ou Non)]]="Oui","Oui","Non") -> Non | L17: =IF(Tableau1[[#This Row],[Régime d''utilisation (Quotidien ? Oui ou Non)]]="Oui","Oui","Non") -> Non | M17: =IF(Tableau1[[#This Row],[Régime d''utilisation (Quotidien ? Oui ou Non)]]="Oui","Oui","Non") -> Non | N17: =IF(Tableau1[[#This Row],[Régime d''utilisation (Quotidien ? Oui ou Non)]]="Oui","Oui","Non") -> Non | O17: =IF(Tableau1[[#This Row],[Régime d''utilisation (Quotidien ? Oui ou Non)]]="Oui","Oui","Non") -> Non | S17: ="Compris entre 00h00 et 5h00" -> Compris entre 00h00 et 5h00 | U17: ="Voyageur" -> Voyageur | AB17: =400 -> 400 | AC17: =IF(Tableau1[[#This Row],[Type de réponse]]='Paramètre (masquer)'!$A$10,Tableau1[[#This Row],[Période de début *]],"") | AD17: =IF(Tableau1[[#This Row],[Type de réponse]]='Paramètre (masquer)'!$A$10,Tableau1[[#This Row],[Période de fin *]],"") | AE17: =IF(Tableau1[[#This Row],[Type de réponse]]='Paramètre (masquer)'!$A$10,Tableau1[[#This Row],[Nuit LU/MA]],"") | AF17: =IF(Tableau1[[#This Row],[Type de réponse]]='Paramètre (masquer)'!$A$10,Tableau1[[#This Row],[Nuit MA/ME]],"") | AG17: =IF(Tableau1[[#This Row],[Type de réponse]]='Paramètre (masquer)'!$A$10,Tableau1[[#This Row],[Nuit ME/JE]],"") | AH17: =IF(Tableau1[[#This Row],[Type de réponse]]='Paramètre (masquer)'!$A$10,Tableau1[[#This Row],[Nuit JE/VE]],"") | AI17: =IF(Tableau1[[#This Row],[Type de réponse]]='Paramètre (masquer)'!$A$10,Tableau1[[#This Row],[Nuit VE/SA]],"") | AJ17: =IF(Tableau1[[#This Row],[Type de réponse]]='Paramètre (masquer)'!$A$10,Tableau1[[#This Row],[Nuit SA/DI]],"") | AK17: =IF(Tableau1[[#This Row],[Type de réponse]]='Paramètre (masquer)'!$A$10,Tableau1[[#This Row],[Nuit DI/LU]],"") | AL17: =IF(Tableau1[[#This Row],[Nuit LU /MA]]="Oui",0,IF(Tableau1[[#This Row],[Nuit LU /MA]]="Non",1,"")) | AM17: =IF(Tableau1[[#This Row],[Nuit MA/ ME]]="Oui",0,IF(Tableau1[[#This Row],[Nuit MA/ ME]]="Non",1,"")) | AN17: =IF(Tableau1[[#This Row],[Nuit ME/ JE]]="Oui",0,IF(Tableau1[[#This Row],[Nuit ME/ JE]]="Non",1,"")) | AO17: =IF(Tableau1[[#This Row],[Nuit JE/ VE]]="Oui",0,IF(Tableau1[[#This Row],[Nuit JE/ VE]]="Non",1,"")) | AP17: =IF(Tableau1[[#This Row],[Nuit VE/ SA]]="Oui",0,IF(Tableau1[[#This Row],[Nuit VE/ SA]]="Non",1,"")) | AQ17: =IF(Tableau1[[#This Row],[Nuit SA/ DI]]="Oui",0,IF(Tableau1[[#This Row],[Nuit SA/ DI]]="Non",1,"")) | AR17: =IF(Tableau1[[#This Row],[Nuit DI/ LU]]="Oui",0,IF(Tableau1[[#This Row],[Nuit DI/ LU]]="Non",1,"")) | AS17: =IF(Tableau1[[#This Row],[Type de réponse]]='Paramètre (masquer)'!$A$10,Tableau1[[#This Row],[FE]],"") | AT17: =_xlfn.CONCAT(Tableau1[[#This Row],[LUN]:[DIM]]) | AV17: =IF(OR(Tableau1[[#This Row],[Type de réponse]]='Paramètre (masquer)'!$A$10,Tableau1[[#This Row],[Type de réponse]]='Paramètre (masquer)'!$A$11,Tableau1[[#This Row],[Type de réponse]]='Paramètre (masquer)'!$A$12),"Déclaratif","") | AW17: =IF(Tableau1[[#This Row],[FER]]="Oui",NETWORKDAYS.INTL(Tableau1[[#This Row],[Période début]],Tableau1[[#This Row],[Période fin]],Tableau1[[#This Row],[CONCAT]]),NETWORKDAYS.INTL(Tableau1[[#This Row],[Période début]],Tableau1[[#This Row],[Période fin]],Tableau1[[#This Row],[CONCAT]],'Paramètre (masquer)'!$A$18:$A$50)) -> #VALUE! | AX17: =Tableau1[[#This Row],[Nbre de nuits sur la période]]*Tableau1[[#This Row],[Nombre de train accédant / nuit *]] -> #VALUE! | AY17: =Tableau1[[#This Row],[Uo voies - nuit]]*((59*400/1000)+5) -> #VALUE!
A18: =1+A17 -> 5 | C18: =IFERROR(VLOOKUP(Tableau1[[#This Row],[Site * Un fichier Excel par DT]],Tableau7[[#All],[Nom de la gare]:[EIC]],5,FALSE),"") | H18: =IF(Tableau1[[#This Row],[Régime d''utilisation (Quotidien ? Oui ou Non)]]="Oui","Oui","Non") -> Non | I18: =IF(Tableau1[[#This Row],[Régime d''utilisation (Quotidien ? Oui ou Non)]]="Oui","Oui","Non") -> Non | J18: =IF(Tableau1[[#This Row],[Régime d''utilisation (Quotidien ? Oui ou Non)]]="Oui","Oui","Non") -> Non | K18: =IF(Tableau1[[#This Row],[Régime d''utilisation (Quotidien ? Oui ou Non)]]="Oui","Oui","Non") -> Non | L18: =IF(Tableau1[[#This Row],[Régime d''utilisation (Quotidien ? Oui ou Non)]]="Oui","Oui","Non") -> Non | M18: =IF(Tableau1[[#This Row],[Régime d''utilisation (Quotidien ? Oui ou Non)]]="Oui","Oui","Non") -> Non | N18: =IF(Tableau1[[#This Row],[Régime d''utilisation (Quotidien ? Oui ou Non)]]="Oui","Oui","Non") -> Non | O18: =IF(Tableau1[[#This Row],[Régime d''utilisation (Quotidien ? Oui ou Non)]]="Oui","Oui","Non") -> Non | S18: ="Compris entre 00h00 et 5h00" -> Compris entre 00h00 et 5h00 | U18: ="Voyageur" -> Voyageur | AB18: =400 -> 400 | AC18: =IF(Tableau1[[#This Row],[Type de réponse]]='Paramètre (masquer)'!$A$10,Tableau1[[#This Row],[Période de début *]],"") | AD18: =IF(Tableau1[[#This Row],[Type de réponse]]='Paramètre (masquer)'!$A$10,Tableau1[[#This Row],[Période de fin *]],"") | AE18: =IF(Tableau1[[#This Row],[Type de réponse]]='Paramètre (masquer)'!$A$10,Tableau1[[#This Row],[Nuit LU/MA]],"") | AF18: =IF(Tableau1[[#This Row],[Type de réponse]]='Paramètre (masquer)'!$A$10,Tableau1[[#This Row],[Nuit MA/ME]],"") | AG18: =IF(Tableau1[[#This Row],[Type de réponse]]='Paramètre (masquer)'!$A$10,Tableau1[[#This Row],[Nuit ME/JE]],"") | AH18: =IF(Tableau1[[#This Row],[Type de réponse]]='Paramètre (masquer)'!$A$10,Tableau1[[#This Row],[Nuit JE/VE]],"") | AI18: =IF(Tableau1[[#This Row],[Type de réponse]]='Paramètre (masquer)'!$A$10,Tableau1[[#This Row],[Nuit VE/SA]],"") | AJ18: =IF(Tableau1[[#This Row],[Type de réponse]]='Paramètre (masquer)'!$A$10,Tableau1[[#This Row],[Nuit SA/DI]],"") | AK18: =IF(Tableau1[[#This Row],[Type de réponse]]='Paramètre (masquer)'!$A$10,Tableau1[[#This Row],[Nuit DI/LU]],"") | AL18: =IF(Tableau1[[#This Row],[Nuit LU /MA]]="Oui",0,IF(Tableau1[[#This Row],[Nuit LU /MA]]="Non",1,"")) | AM18: =IF(Tableau1[[#This Row],[Nuit MA/ ME]]="Oui",0,IF(Tableau1[[#This Row],[Nuit MA/ ME]]="Non",1,"")) | AN18: =IF(Tableau1[[#This Row],[Nuit ME/ JE]]="Oui",0,IF(Tableau1[[#This Row],[Nuit ME/ JE]]="Non",1,"")) | AO18: =IF(Tableau1[[#This Row],[Nuit JE/ VE]]="Oui",0,IF(Tableau1[[#This Row],[Nuit JE/ VE]]="Non",1,"")) | AP18: =IF(Tableau1[[#This Row],[Nuit VE/ SA]]="Oui",0,IF(Tableau1[[#This Row],[Nuit VE/ SA]]="Non",1,"")) | AQ18: =IF(Tableau1[[#This Row],[Nuit SA/ DI]]="Oui",0,IF(Tableau1[[#This Row],[Nuit SA/ DI]]="Non",1,"")) | AR18: =IF(Tableau1[[#This Row],[Nuit DI/ LU]]="Oui",0,IF(Tableau1[[#This Row],[Nuit DI/ LU]]="Non",1,"")) | AS18: =IF(Tableau1[[#This Row],[Type de réponse]]='Paramètre (masquer)'!$A$10,Tableau1[[#This Row],[FE]],"") | AT18: =_xlfn.CONCAT(Tableau1[[#This Row],[LUN]:[DIM]]) | AV18: =IF(OR(Tableau1[[#This Row],[Type de réponse]]='Paramètre (masquer)'!$A$10,Tableau1[[#This Row],[Type de réponse]]='Paramètre (masquer)'!$A$11,Tableau1[[#This Row],[Type de réponse]]='Paramètre (masquer)'!$A$12),"Déclaratif","") | AW18: =IF(Tableau1[[#This Row],[FER]]="Oui",NETWORKDAYS.INTL(Tableau1[[#This Row],[Période début]],Tableau1[[#This Row],[Période fin]],Tableau1[[#This Row],[CONCAT]]),NETWORKDAYS.INTL(Tableau1[[#This Row],[Période début]],Tableau1[[#This Row],[Période fin]],Tableau1[[#This Row],[CONCAT]],'Paramètre (masquer)'!$A$18:$A$50)) -> #VALUE! | AX18: =Tableau1[[#This Row],[Nbre de nuits sur la période]]*Tableau1[[#This Row],[Nombre de train accédant / nuit *]] -> #VALUE! | AY18: =Tableau1[[#This Row],[Uo voies - nuit]]*((59*400/1000)+5) -> #VALUE!
A19: =1+A18 -> 6 | C19: =IFERROR(VLOOKUP(Tableau1[[#This Row],[Site * Un fichier Excel par DT]],Tableau7[[#All],[Nom de la gare]:[EIC]],5,FALSE),"") | H19: =IF(Tableau1[[#This Row],[Régime d''utilisation (Quotidien ? Oui ou Non)]]="Oui","Oui","Non") -> Non | I19: =IF(Tableau1[[#This Row],[Régime d''utilisation (Quotidien ? Oui ou Non)]]="Oui","Oui","Non") -> Non | J19: =IF(Tableau1[[#This Row],[Régime d''utilisation (Quotidien ? Oui ou Non)]]="Oui","Oui","Non") -> Non | K19: =IF(Tableau1[[#This Row],[Régime d''utilisation (Quotidien ? Oui ou Non)]]="Oui","Oui","Non") -> Non | L19: =IF(Tableau1[[#This Row],[Régime d''utilisation (Quotidien ? Oui ou Non)]]="Oui","Oui","Non") -> Non | M19: =IF(Tableau1[[#This Row],[Régime d''utilisation (Quotidien ? Oui ou Non)]]="Oui","Oui","Non") -> Non | N19: =IF(Tableau1[[#This Row],[Régime d''utilisation (Quotidien ? Oui ou Non)]]="Oui","Oui","Non") -> Non | O19: =IF(Tableau1[[#This Row],[Régime d''utilisation (Quotidien ? Oui ou Non)]]="Oui","Oui","Non") -> Non | S19: ="Compris entre 00h00 et 5h00" -> Compris entre 00h00 et 5h00 | U19: ="Voyageur" -> Voyageur | AB19: =400 -> 400 | AC19: =IF(Tableau1[[#This Row],[Type de réponse]]='Paramètre (masquer)'!$A$10,Tableau1[[#This Row],[Période de début *]],"") | AD19: =IF(Tableau1[[#This Row],[Type de réponse]]='Paramètre (masquer)'!$A$10,Tableau1[[#This Row],[Période de fin *]],"") | AE19: =IF(Tableau1[[#This Row],[Type de réponse]]='Paramètre (masquer)'!$A$10,Tableau1[[#This Row],[Nuit LU/MA]],"") | AF19: =IF(Tableau1[[#This Row],[Type de réponse]]='Paramètre (masquer)'!$A$10,Tableau1[[#This Row],[Nuit MA/ME]],"") | AG19: =IF(Tableau1[[#This Row],[Type de réponse]]='Paramètre (masquer)'!$A$10,Tableau1[[#This Row],[Nuit ME/JE]],"") | AH19: =IF(Tableau1[[#This Row],[Type de réponse]]='Paramètre (masquer)'!$A$10,Tableau1[[#This Row],[Nuit JE/VE]],"") | AI19: =IF(Tableau1[[#This Row],[Type de réponse]]='Paramètre (masquer)'!$A$10,Tableau1[[#This Row],[Nuit VE/SA]],"") | AJ19: =IF(Tableau1[[#This Row],[Type de réponse]]='Paramètre (masquer)'!$A$10,Tableau1[[#This Row],[Nuit SA/DI]],"") | AK19: =IF(Tableau1[[#This Row],[Type de réponse]]='Paramètre (masquer)'!$A$10,Tableau1[[#This Row],[Nuit DI/LU]],"") | AL19: =IF(Tableau1[[#This Row],[Nuit LU /MA]]="Oui",0,IF(Tableau1[[#This Row],[Nuit LU /MA]]="Non",1,"")) | AM19: =IF(Tableau1[[#This Row],[Nuit MA/ ME]]="Oui",0,IF(Tableau1[[#This Row],[Nuit MA/ ME]]="Non",1,"")) | AN19: =IF(Tableau1[[#This Row],[Nuit ME/ JE]]="Oui",0,IF(Tableau1[[#This Row],[Nuit ME/ JE]]="Non",1,"")) | AO19: =IF(Tableau1[[#This Row],[Nuit JE/ VE]]="Oui",0,IF(Tableau1[[#This Row],[Nuit JE/ VE]]="Non",1,"")) | AP19: =IF(Tableau1[[#This Row],[Nuit VE/ SA]]="Oui",0,IF(Tableau1[[#This Row],[Nuit VE/ SA]]="Non",1,"")) | AQ19: =IF(Tableau1[[#This Row],[Nuit SA/ DI]]="Oui",0,IF(Tableau1[[#This Row],[Nuit SA/ DI]]="Non",1,"")) | AR19: =IF(Tableau1[[#This Row],[Nuit DI/ LU]]="Oui",0,IF(Tableau1[[#This Row],[Nuit DI/ LU]]="Non",1,"")) | AS19: =IF(Tableau1[[#This Row],[Type de réponse]]='Paramètre (masquer)'!$A$10,Tableau1[[#This Row],[FE]],"") | AT19: =_xlfn.CONCAT(Tableau1[[#This Row],[LUN]:[DIM]]) | AV19: =IF(OR(Tableau1[[#This Row],[Type de réponse]]='Paramètre (masquer)'!$A$10,Tableau1[[#This Row],[Type de réponse]]='Paramètre (masquer)'!$A$11,Tableau1[[#This Row],[Type de réponse]]='Paramètre (masquer)'!$A$12),"Déclaratif","") | AW19: =IF(Tableau1[[#This Row],[FER]]="Oui",NETWORKDAYS.INTL(Tableau1[[#This Row],[Période début]],Tableau1[[#This Row],[Période fin]],Tableau1[[#This Row],[CONCAT]]),NETWORKDAYS.INTL(Tableau1[[#This Row],[Période début]],Tableau1[[#This Row],[Période fin]],Tableau1[[#This Row],[CONCAT]],'Paramètre (masquer)'!$A$18:$A$50)) -> #VALUE! | AX19: =Tableau1[[#This Row],[Nbre de nuits sur la période]]*Tableau1[[#This Row],[Nombre de train accédant / nuit *]] -> #VALUE! | AY19: =Tableau1[[#This Row],[Uo voies - nuit]]*((59*400/1000)+5) -> #VALUE!
A20: =1+A19 -> 7 | C20: =IFERROR(VLOOKUP(Tableau1[[#This Row],[Site * Un fichier Excel par DT]],Tableau7[[#All],[Nom de la gare]:[EIC]],5,FALSE),"") | H20: =IF(Tableau1[[#This Row],[Régime d''utilisation (Quotidien ? Oui ou Non)]]="Oui","Oui","Non") -> Non | I20: =IF(Tableau1[[#This Row],[Régime d''utilisation (Quotidien ? Oui ou Non)]]="Oui","Oui","Non") -> Non | J20: =IF(Tableau1[[#This Row],[Régime d''utilisation (Quotidien ? Oui ou Non)]]="Oui","Oui","Non") -> Non | K20: =IF(Tableau1[[#This Row],[Régime d''utilisation (Quotidien ? Oui ou Non)]]="Oui","Oui","Non") -> Non | L20: =IF(Tableau1[[#This Row],[Régime d''utilisation (Quotidien ? Oui ou Non)]]="Oui","Oui","Non") -> Non | M20: =IF(Tableau1[[#This Row],[Régime d''utilisation (Quotidien ? Oui ou Non)]]="Oui","Oui","Non") -> Non | N20: =IF(Tableau1[[#This Row],[Régime d''utilisation (Quotidien ? Oui ou Non)]]="Oui","Oui","Non") -> Non | O20: =IF(Tableau1[[#This Row],[Régime d''utilisation (Quotidien ? Oui ou Non)]]="Oui","Oui","Non") -> Non | S20: ="Compris entre 00h00 et 5h00" -> Compris entre 00h00 et 5h00 | U20: ="Voyageur" -> Voyageur | AB20: =400 -> 400 | AC20: =IF(Tableau1[[#This Row],[Type de réponse]]='Paramètre (masquer)'!$A$10,Tableau1[[#This Row],[Période de début *]],"") | AD20: =IF(Tableau1[[#This Row],[Type de réponse]]='Paramètre (masquer)'!$A$10,Tableau1[[#This Row],[Période de fin *]],"") | AE20: =IF(Tableau1[[#This Row],[Type de réponse]]='Paramètre (masquer)'!$A$10,Tableau1[[#This Row],[Nuit LU/MA]],"") | AF20: =IF(Tableau1[[#This Row],[Type de réponse]]='Paramètre (masquer)'!$A$10,Tableau1[[#This Row],[Nuit MA/ME]],"") | AG20: =IF(Tableau1[[#This Row],[Type de réponse]]='Paramètre (masquer)'!$A$10,Tableau1[[#This Row],[Nuit ME/JE]],"") | AH20: =IF(Tableau1[[#This Row],[Type de réponse]]='Paramètre (masquer)'!$A$10,Tableau1[[#This Row],[Nuit JE/VE]],"") | AI20: =IF(Tableau1[[#This Row],[Type de réponse]]='Paramètre (masquer)'!$A$10,Tableau1[[#This Row],[Nuit VE/SA]],"") | AJ20: =IF(Tableau1[[#This Row],[Type de réponse]]='Paramètre (masquer)'!$A$10,Tableau1[[#This Row],[Nuit SA/DI]],"") | AK20: =IF(Tableau1[[#This Row],[Type de réponse]]='Paramètre (masquer)'!$A$10,Tableau1[[#This Row],[Nuit DI/LU]],"") | AL20: =IF(Tableau1[[#This Row],[Nuit LU /MA]]="Oui",0,IF(Tableau1[[#This Row],[Nuit LU /MA]]="Non",1,"")) | AM20: =IF(Tableau1[[#This Row],[Nuit MA/ ME]]="Oui",0,IF(Tableau1[[#This Row],[Nuit MA/ ME]]="Non",1,"")) | AN20: =IF(Tableau1[[#This Row],[Nuit ME/ JE]]="Oui",0,IF(Tableau1[[#This Row],[Nuit ME/ JE]]="Non",1,"")) | AO20: =IF(Tableau1[[#This Row],[Nuit JE/ VE]]="Oui",0,IF(Tableau1[[#This Row],[Nuit JE/ VE]]="Non",1,"")) | AP20: =IF(Tableau1[[#This Row],[Nuit VE/ SA]]="Oui",0,IF(Tableau1[[#This Row],[Nuit VE/ SA]]="Non",1,"")) | AQ20: =IF(Tableau1[[#This Row],[Nuit SA/ DI]]="Oui",0,IF(Tableau1[[#This Row],[Nuit SA/ DI]]="Non",1,"")) | AR20: =IF(Tableau1[[#This Row],[Nuit DI/ LU]]="Oui",0,IF(Tableau1[[#This Row],[Nuit DI/ LU]]="Non",1,"")) | AS20: =IF(Tableau1[[#This Row],[Type de réponse]]='Paramètre (masquer)'!$A$10,Tableau1[[#This Row],[FE]],"") | AT20: =_xlfn.CONCAT(Tableau1[[#This Row],[LUN]:[DIM]]) | AV20: =IF(OR(Tableau1[[#This Row],[Type de réponse]]='Paramètre (masquer)'!$A$10,Tableau1[[#This Row],[Type de réponse]]='Paramètre (masquer)'!$A$11,Tableau1[[#This Row],[Type de réponse]]='Paramètre (masquer)'!$A$12),"Déclaratif","") | AW20: =IF(Tableau1[[#This Row],[FER]]="Oui",NETWORKDAYS.INTL(Tableau1[[#This Row],[Période début]],Tableau1[[#This Row],[Période fin]],Tableau1[[#This Row],[CONCAT]]),NETWORKDAYS.INTL(Tableau1[[#This Row],[Période début]],Tableau1[[#This Row],[Période fin]],Tableau1[[#This Row],[CONCAT]],'Paramètre (masquer)'!$A$18:$A$50)) -> #VALUE! | AX20: =Tableau1[[#This Row],[Nbre de nuits sur la période]]*Tableau1[[#This Row],[Nombre de train accédant / nuit *]] -> #VALUE! | AY20: =Tableau1[[#This Row],[Uo voies - nuit]]*((59*400/1000)+5) -> #VALUE!
A21: =1+A20 -> 8 | C21: =IFERROR(VLOOKUP(Tableau1[[#This Row],[Site * Un fichier Excel par DT]],Tableau7[[#All],[Nom de la gare]:[EIC]],5,FALSE),"") | H21: =IF(Tableau1[[#This Row],[Régime d''utilisation (Quotidien ? Oui ou Non)]]="Oui","Oui","Non") -> Non | I21: =IF(Tableau1[[#This Row],[Régime d''utilisation (Quotidien ? Oui ou Non)]]="Oui","Oui","Non") -> Non | J21: =IF(Tableau1[[#This Row],[Régime d''utilisation (Quotidien ? Oui ou Non)]]="Oui","Oui","Non") -> Non | K21: =IF(Tableau1[[#This Row],[Régime d''utilisation (Quotidien ? Oui ou Non)]]="Oui","Oui","Non") -> Non | L21: =IF(Tableau1[[#This Row],[Régime d''utilisation (Quotidien ? Oui ou Non)]]="Oui","Oui","Non") -> Non | M21: =IF(Tableau1[[#This Row],[Régime d''utilisation (Quotidien ? Oui ou Non)]]="Oui","Oui","Non") -> Non | N21: =IF(Tableau1[[#This Row],[Régime d''utilisation (Quotidien ? Oui ou Non)]]="Oui","Oui","Non") -> Non | O21: =IF(Tableau1[[#This Row],[Régime d''utilisation (Quotidien ? Oui ou Non)]]="Oui","Oui","Non") -> Non | S21: ="Compris entre 00h00 et 5h00" -> Compris entre 00h00 et 5h00 | U21: ="Voyageur" -> Voyageur | AB21: =400 -> 400 | AC21: =IF(Tableau1[[#This Row],[Type de réponse]]='Paramètre (masquer)'!$A$10,Tableau1[[#This Row],[Période de début *]],"") | AD21: =IF(Tableau1[[#This Row],[Type de réponse]]='Paramètre (masquer)'!$A$10,Tableau1[[#This Row],[Période de fin *]],"") | AE21: =IF(Tableau1[[#This Row],[Type de réponse]]='Paramètre (masquer)'!$A$10,Tableau1[[#This Row],[Nuit LU/MA]],"") | AF21: =IF(Tableau1[[#This Row],[Type de réponse]]='Paramètre (masquer)'!$A$10,Tableau1[[#This Row],[Nuit MA/ME]],"") | AG21: =IF(Tableau1[[#This Row],[Type de réponse]]='Paramètre (masquer)'!$A$10,Tableau1[[#This Row],[Nuit ME/JE]],"") | AH21: =IF(Tableau1[[#This Row],[Type de réponse]]='Paramètre (masquer)'!$A$10,Tableau1[[#This Row],[Nuit JE/VE]],"") | AI21: =IF(Tableau1[[#This Row],[Type de réponse]]='Paramètre (masquer)'!$A$10,Tableau1[[#This Row],[Nuit VE/SA]],"") | AJ21: =IF(Tableau1[[#This Row],[Type de réponse]]='Paramètre (masquer)'!$A$10,Tableau1[[#This Row],[Nuit SA/DI]],"") | AK21: =IF(Tableau1[[#This Row],[Type de réponse]]='Paramètre (masquer)'!$A$10,Tableau1[[#This Row],[Nuit DI/LU]],"") | AL21: =IF(Tableau1[[#This Row],[Nuit LU /MA]]="Oui",0,IF(Tableau1[[#This Row],[Nuit LU /MA]]="Non",1,"")) | AM21: =IF(Tableau1[[#This Row],[Nuit MA/ ME]]="Oui",0,IF(Tableau1[[#This Row],[Nuit MA/ ME]]="Non",1,"")) | AN21: =IF(Tableau1[[#This Row],[Nuit ME/ JE]]="Oui",0,IF(Tableau1[[#This Row],[Nuit ME/ JE]]="Non",1,"")) | AO21: =IF(Tableau1[[#This Row],[Nuit JE/ VE]]="Oui",0,IF(Tableau1[[#This Row],[Nuit JE/ VE]]="Non",1,"")) | AP21: =IF(Tableau1[[#This Row],[Nuit VE/ SA]]="Oui",0,IF(Tableau1[[#This Row],[Nuit VE/ SA]]="Non",1,"")) | AQ21: =IF(Tableau1[[#This Row],[Nuit SA/ DI]]="Oui",0,IF(Tableau1[[#This Row],[Nuit SA/ DI]]="Non",1,"")) | AR21: =IF(Tableau1[[#This Row],[Nuit DI/ LU]]="Oui",0,IF(Tableau1[[#This Row],[Nuit DI/ LU]]="Non",1,"")) | AS21: =IF(Tableau1[[#This Row],[Type de réponse]]='Paramètre (masquer)'!$A$10,Tableau1[[#This Row],[FE]],"") | AT21: =_xlfn.CONCAT(Tableau1[[#This Row],[LUN]:[DIM]]) | AV21: =IF(OR(Tableau1[[#This Row],[Type de réponse]]='Paramètre (masquer)'!$A$10,Tableau1[[#This Row],[Type de réponse]]='Paramètre (masquer)'!$A$11,Tableau1[[#This Row],[Type de réponse]]='Paramètre (masquer)'!$A$12),"Déclaratif","") | AW21: =IF(Tableau1[[#This Row],[FER]]="Oui",NETWORKDAYS.INTL(Tableau1[[#This Row],[Période début]],Tableau1[[#This Row],[Période fin]],Tableau1[[#This Row],[CONCAT]]),NETWORKDAYS.INTL(Tableau1[[#This Row],[Période début]],Tableau1[[#This Row],[Période fin]],Tableau1[[#This Row],[CONCAT]],'Paramètre (masquer)'!$A$18:$A$50)) -> #VALUE! | AX21: =Tableau1[[#This Row],[Nbre de nuits sur la période]]*Tableau1[[#This Row],[Nombre de train accédant / nuit *]] -> #VALUE! | AY21: =Tableau1[[#This Row],[Uo voies - nuit]]*((59*400/1000)+5) -> #VALUE!
A22: =1+A21 -> 9 | C22: =IFERROR(VLOOKUP(Tableau1[[#This Row],[Site * Un fichier Excel par DT]],Tableau7[[#All],[Nom de la gare]:[EIC]],5,FALSE),"") | H22: =IF(Tableau1[[#This Row],[Régime d''utilisation (Quotidien ? Oui ou Non)]]="Oui","Oui","Non") -> Non | I22: =IF(Tableau1[[#This Row],[Régime d''utilisation (Quotidien ? Oui ou Non)]]="Oui","Oui","Non") -> Non | J22: =IF(Tableau1[[#This Row],[Régime d''utilisation (Quotidien ? Oui ou Non)]]="Oui","Oui","Non") -> Non | K22: =IF(Tableau1[[#This Row],[Régime d''utilisation (Quotidien ? Oui ou Non)]]="Oui","Oui","Non") -> Non | L22: =IF(Tableau1[[#This Row],[Régime d''utilisation (Quotidien ? Oui ou Non)]]="Oui","Oui","Non") -> Non | M22: =IF(Tableau1[[#This Row],[Régime d''utilisation (Quotidien ? Oui ou Non)]]="Oui","Oui","Non") -> Non | N22: =IF(Tableau1[[#This Row],[Régime d''utilisation (Quotidien ? Oui ou Non)]]="Oui","Oui","Non") -> Non | O22: =IF(Tableau1[[#This Row],[Régime d''utilisation (Quotidien ? Oui ou Non)]]="Oui","Oui","Non") -> Non | S22: ="Compris entre 00h00 et 5h00" -> Compris entre 00h00 et 5h00 | U22: ="Voyageur" -> Voyageur | AB22: =400 -> 400 | AC22: =IF(Tableau1[[#This Row],[Type de réponse]]='Paramètre (masquer)'!$A$10,Tableau1[[#This Row],[Période de début *]],"") | AD22: =IF(Tableau1[[#This Row],[Type de réponse]]='Paramètre (masquer)'!$A$10,Tableau1[[#This Row],[Période de fin *]],"") | AE22: =IF(Tableau1[[#This Row],[Type de réponse]]='Paramètre (masquer)'!$A$10,Tableau1[[#This Row],[Nuit LU/MA]],"") | AF22: =IF(Tableau1[[#This Row],[Type de réponse]]='Paramètre (masquer)'!$A$10,Tableau1[[#This Row],[Nuit MA/ME]],"") | AG22: =IF(Tableau1[[#This Row],[Type de réponse]]='Paramètre (masquer)'!$A$10,Tableau1[[#This Row],[Nuit ME/JE]],"") | AH22: =IF(Tableau1[[#This Row],[Type de réponse]]='Paramètre (masquer)'!$A$10,Tableau1[[#This Row],[Nuit JE/VE]],"") | AI22: =IF(Tableau1[[#This Row],[Type de réponse]]='Paramètre (masquer)'!$A$10,Tableau1[[#This Row],[Nuit VE/SA]],"") | AJ22: =IF(Tableau1[[#This Row],[Type de réponse]]='Paramètre (masquer)'!$A$10,Tableau1[[#This Row],[Nuit SA/DI]],"") | AK22: =IF(Tableau1[[#This Row],[Type de réponse]]='Paramètre (masquer)'!$A$10,Tableau1[[#This Row],[Nuit DI/LU]],"") | AL22: =IF(Tableau1[[#This Row],[Nuit LU /MA]]="Oui",0,IF(Tableau1[[#This Row],[Nuit LU /MA]]="Non",1,"")) | AM22: =IF(Tableau1[[#This Row],[Nuit MA/ ME]]="Oui",0,IF(Tableau1[[#This Row],[Nuit MA/ ME]]="Non",1,"")) | AN22: =IF(Tableau1[[#This Row],[Nuit ME/ JE]]="Oui",0,IF(Tableau1[[#This Row],[Nuit ME/ JE]]="Non",1,"")) | AO22: =IF(Tableau1[[#This Row],[Nuit JE/ VE]]="Oui",0,IF(Tableau1[[#This Row],[Nuit JE/ VE]]="Non",1,"")) | AP22: =IF(Tableau1[[#This Row],[Nuit VE/ SA]]="Oui",0,IF(Tableau1[[#This Row],[Nuit VE/ SA]]="Non",1,"")) | AQ22: =IF(Tableau1[[#This Row],[Nuit SA/ DI]]="Oui",0,IF(Tableau1[[#This Row],[Nuit SA/ DI]]="Non",1,"")) | AR22: =IF(Tableau1[[#This Row],[Nuit DI/ LU]]="Oui",0,IF(Tableau1[[#This Row],[Nuit DI/ LU]]="Non",1,"")) | AS22: =IF(Tableau1[[#This Row],[Type de réponse]]='Paramètre (masquer)'!$A$10,Tableau1[[#This Row],[FE]],"") | AT22: =_xlfn.CONCAT(Tableau1[[#This Row],[LUN]:[DIM]]) | AV22: =IF(OR(Tableau1[[#This Row],[Type de réponse]]='Paramètre (masquer)'!$A$10,Tableau1[[#This Row],[Type de réponse]]='Paramètre (masquer)'!$A$11,Tableau1[[#This Row],[Type de réponse]]='Paramètre (masquer)'!$A$12),"Déclaratif","") | AW22: =IF(Tableau1[[#This Row],[FER]]="Oui",NETWORKDAYS.INTL(Tableau1[[#This Row],[Période début]],Tableau1[[#This Row],[Période fin]],Tableau1[[#This Row],[CONCAT]]),NETWORKDAYS.INTL(Tableau1[[#This Row],[Période début]],Tableau1[[#This Row],[Période fin]],Tableau1[[#This Row],[CONCAT]],'Paramètre (masquer)'!$A$18:$A$50)) -> #VALUE! | AX22: =Tableau1[[#This Row],[Nbre de nuits sur la période]]*Tableau1[[#This Row],[Nombre de train accédant / nuit *]] -> #VALUE! | AY22: =Tableau1[[#This Row],[Uo voies - nuit]]*((59*400/1000)+5) -> #VALUE!
A23: =1+A22 -> 10 | C23: =IFERROR(VLOOKUP(Tableau1[[#This Row],[Site * Un fichier Excel par DT]],Tableau7[[#All],[Nom de la gare]:[EIC]],5,FALSE),"") | H23: =IF(Tableau1[[#This Row],[Régime d''utilisation (Quotidien ? Oui ou Non)]]="Oui","Oui","Non") -> Non | I23: =IF(Tableau1[[#This Row],[Régime d''utilisation (Quotidien ? Oui ou Non)]]="Oui","Oui","Non") -> Non | J23: =IF(Tableau1[[#This Row],[Régime d''utilisation (Quotidien ? Oui ou Non)]]="Oui","Oui","Non") -> Non | K23: =IF(Tableau1[[#This Row],[Régime d''utilisation (Quotidien ? Oui ou Non)]]="Oui","Oui","Non") -> Non | L23: =IF(Tableau1[[#This Row],[Régime d''utilisation (Quotidien ? Oui ou Non)]]="Oui","Oui","Non") -> Non | M23: =IF(Tableau1[[#This Row],[Régime d''utilisation (Quotidien ? Oui ou Non)]]="Oui","Oui","Non") -> Non | N23: =IF(Tableau1[[#This Row],[Régime d''utilisation (Quotidien ? Oui ou Non)]]="Oui","Oui","Non") -> Non | O23: =IF(Tableau1[[#This Row],[Régime d''utilisation (Quotidien ? Oui ou Non)]]="Oui","Oui","Non") -> Non | S23: ="Compris entre 00h00 et 5h00" -> Compris entre 00h00 et 5h00 | U23: ="Voyageur" -> Voyageur | AB23: =400 -> 400 | AC23: =IF(Tableau1[[#This Row],[Type de réponse]]='Paramètre (masquer)'!$A$10,Tableau1[[#This Row],[Période de début *]],"") | AD23: =IF(Tableau1[[#This Row],[Type de réponse]]='Paramètre (masquer)'!$A$10,Tableau1[[#This Row],[Période de fin *]],"") | AE23: =IF(Tableau1[[#This Row],[Type de réponse]]='Paramètre (masquer)'!$A$10,Tableau1[[#This Row],[Nuit LU/MA]],"") | AF23: =IF(Tableau1[[#This Row],[Type de réponse]]='Paramètre (masquer)'!$A$10,Tableau1[[#This Row],[Nuit MA/ME]],"") | AG23: =IF(Tableau1[[#This Row],[Type de réponse]]='Paramètre (masquer)'!$A$10,Tableau1[[#This Row],[Nuit ME/JE]],"") | AH23: =IF(Tableau1[[#This Row],[Type de réponse]]='Paramètre (masquer)'!$A$10,Tableau1[[#This Row],[Nuit JE/VE]],"") | AI23: =IF(Tableau1[[#This Row],[Type de réponse]]='Paramètre (masquer)'!$A$10,Tableau1[[#This Row],[Nuit VE/SA]],"") | AJ23: =IF(Tableau1[[#This Row],[Type de réponse]]='Paramètre (masquer)'!$A$10,Tableau1[[#This Row],[Nuit SA/DI]],"") | AK23: =IF(Tableau1[[#This Row],[Type de réponse]]='Paramètre (masquer)'!$A$10,Tableau1[[#This Row],[Nuit DI/LU]],"") | AL23: =IF(Tableau1[[#This Row],[Nuit LU /MA]]="Oui",0,IF(Tableau1[[#This Row],[Nuit LU /MA]]="Non",1,"")) | AM23: =IF(Tableau1[[#This Row],[Nuit MA/ ME]]="Oui",0,IF(Tableau1[[#This Row],[Nuit MA/ ME]]="Non",1,"")) | AN23: =IF(Tableau1[[#This Row],[Nuit ME/ JE]]="Oui",0,IF(Tableau1[[#This Row],[Nuit ME/ JE]]="Non",1,"")) | AO23: =IF(Tableau1[[#This Row],[Nuit JE/ VE]]="Oui",0,IF(Tableau1[[#This Row],[Nuit JE/ VE]]="Non",1,"")) | AP23: =IF(Tableau1[[#This Row],[Nuit VE/ SA]]="Oui",0,IF(Tableau1[[#This Row],[Nuit VE/ SA]]="Non",1,"")) | AQ23: =IF(Tableau1[[#This Row],[Nuit SA/ DI]]="Oui",0,IF(Tableau1[[#This Row],[Nuit SA/ DI]]="Non",1,"")) | AR23: =IF(Tableau1[[#This Row],[Nuit DI/ LU]]="Oui",0,IF(Tableau1[[#This Row],[Nuit DI/ LU]]="Non",1,"")) | AS23: =IF(Tableau1[[#This Row],[Type de réponse]]='Paramètre (masquer)'!$A$10,Tableau1[[#This Row],[FE]],"") | AT23: =_xlfn.CONCAT(Tableau1[[#This Row],[LUN]:[DIM]]) | AV23: =IF(OR(Tableau1[[#This Row],[Type de réponse]]='Paramètre (masquer)'!$A$10,Tableau1[[#This Row],[Type de réponse]]='Paramètre (masquer)'!$A$11,Tableau1[[#This Row],[Type de réponse]]='Paramètre (masquer)'!$A$12),"Déclaratif","") | AW23: =IF(Tableau1[[#This Row],[FER]]="Oui",NETWORKDAYS.INTL(Tableau1[[#This Row],[Période début]],Tableau1[[#This Row],[Période fin]],Tableau1[[#This Row],[CONCAT]]),NETWORKDAYS.INTL(Tableau1[[#This Row],[Période début]],Tableau1[[#This Row],[Période fin]],Tableau1[[#This Row],[CONCAT]],'Paramètre (masquer)'!$A$18:$A$50)) -> #VALUE! | AX23: =Tableau1[[#This Row],[Nbre de nuits sur la période]]*Tableau1[[#This Row],[Nombre de train accédant / nuit *]] -> #VALUE! | AY23: =Tableau1[[#This Row],[Uo voies - nuit]]*((59*400/1000)+5) -> #VALUE!
A24: =1+A23 -> 11 | C24: =IFERROR(VLOOKUP(Tableau1[[#This Row],[Site * Un fichier Excel par DT]],Tableau7[[#All],[Nom de la gare]:[EIC]],5,FALSE),"") | H24: =IF(Tableau1[[#This Row],[Régime d''utilisation (Quotidien ? Oui ou Non)]]="Oui","Oui","Non") -> Non | I24: =IF(Tableau1[[#This Row],[Régime d''utilisation (Quotidien ? Oui ou Non)]]="Oui","Oui","Non") -> Non | J24: =IF(Tableau1[[#This Row],[Régime d''utilisation (Quotidien ? Oui ou Non)]]="Oui","Oui","Non") -> Non | K24: =IF(Tableau1[[#This Row],[Régime d''utilisation (Quotidien ? Oui ou Non)]]="Oui","Oui","Non") -> Non | L24: =IF(Tableau1[[#This Row],[Régime d''utilisation (Quotidien ? Oui ou Non)]]="Oui","Oui","Non") -> Non | M24: =IF(Tableau1[[#This Row],[Régime d''utilisation (Quotidien ? Oui ou Non)]]="Oui","Oui","Non") -> Non | N24: =IF(Tableau1[[#This Row],[Régime d''utilisation (Quotidien ? Oui ou Non)]]="Oui","Oui","Non") -> Non | O24: =IF(Tableau1[[#This Row],[Régime d''utilisation (Quotidien ? Oui ou Non)]]="Oui","Oui","Non") -> Non | S24: ="Compris entre 00h00 et 5h00" -> Compris entre 00h00 et 5h00 | U24: ="Voyageur" -> Voyageur | AB24: =400 -> 400 | AC24: =IF(Tableau1[[#This Row],[Type de réponse]]='Paramètre (masquer)'!$A$10,Tableau1[[#This Row],[Période de début *]],"") | AD24: =IF(Tableau1[[#This Row],[Type de réponse]]='Paramètre (masquer)'!$A$10,Tableau1[[#This Row],[Période de fin *]],"") | AE24: =IF(Tableau1[[#This Row],[Type de réponse]]='Paramètre (masquer)'!$A$10,Tableau1[[#This Row],[Nuit LU/MA]],"") | AF24: =IF(Tableau1[[#This Row],[Type de réponse]]='Paramètre (masquer)'!$A$10,Tableau1[[#This Row],[Nuit MA/ME]],"") | AG24: =IF(Tableau1[[#This Row],[Type de réponse]]='Paramètre (masquer)'!$A$10,Tableau1[[#This Row],[Nuit ME/JE]],"") | AH24: =IF(Tableau1[[#This Row],[Type de réponse]]='Paramètre (masquer)'!$A$10,Tableau1[[#This Row],[Nuit JE/VE]],"") | AI24: =IF(Tableau1[[#This Row],[Type de réponse]]='Paramètre (masquer)'!$A$10,Tableau1[[#This Row],[Nuit VE/SA]],"") | AJ24: =IF(Tableau1[[#This Row],[Type de réponse]]='Paramètre (masquer)'!$A$10,Tableau1[[#This Row],[Nuit SA/DI]],"") | AK24: =IF(Tableau1[[#This Row],[Type de réponse]]='Paramètre (masquer)'!$A$10,Tableau1[[#This Row],[Nuit DI/LU]],"") | AL24: =IF(Tableau1[[#This Row],[Nuit LU /MA]]="Oui",0,IF(Tableau1[[#This Row],[Nuit LU /MA]]="Non",1,"")) | AM24: =IF(Tableau1[[#This Row],[Nuit MA/ ME]]="Oui",0,IF(Tableau1[[#This Row],[Nuit MA/ ME]]="Non",1,"")) | AN24: =IF(Tableau1[[#This Row],[Nuit ME/ JE]]="Oui",0,IF(Tableau1[[#This Row],[Nuit ME/ JE]]="Non",1,"")) | AO24: =IF(Tableau1[[#This Row],[Nuit JE/ VE]]="Oui",0,IF(Tableau1[[#This Row],[Nuit JE/ VE]]="Non",1,"")) | AP24: =IF(Tableau1[[#This Row],[Nuit VE/ SA]]="Oui",0,IF(Tableau1[[#This Row],[Nuit VE/ SA]]="Non",1,"")) | AQ24: =IF(Tableau1[[#This Row],[Nuit SA/ DI]]="Oui",0,IF(Tableau1[[#This Row],[Nuit SA/ DI]]="Non",1,"")) | AR24: =IF(Tableau1[[#This Row],[Nuit DI/ LU]]="Oui",0,IF(Tableau1[[#This Row],[Nuit DI/ LU]]="Non",1,"")) | AS24: =IF(Tableau1[[#This Row],[Type de réponse]]='Paramètre (masquer)'!$A$10,Tableau1[[#This Row],[FE]],"") | AT24: =_xlfn.CONCAT(Tableau1[[#This Row],[LUN]:[DIM]]) | AV24: =IF(OR(Tableau1[[#This Row],[Type de réponse]]='Paramètre (masquer)'!$A$10,Tableau1[[#This Row],[Type de réponse]]='Paramètre (masquer)'!$A$11,Tableau1[[#This Row],[Type de réponse]]='Paramètre (masquer)'!$A$12),"Déclaratif","") | AW24: =IF(Tableau1[[#This Row],[FER]]="Oui",NETWORKDAYS.INTL(Tableau1[[#This Row],[Période début]],Tableau1[[#This Row],[Période fin]],Tableau1[[#This Row],[CONCAT]]),NETWORKDAYS.INTL(Tableau1[[#This Row],[Période début]],Tableau1[[#This Row],[Période fin]],Tableau1[[#This Row],[CONCAT]],'Paramètre (masquer)'!$A$18:$A$50)) -> #VALUE! | AX24: =Tableau1[[#This Row],[Nbre de nuits sur la période]]*Tableau1[[#This Row],[Nombre de train accédant / nuit *]] -> #VALUE! | AY24: =Tableau1[[#This Row],[Uo voies - nuit]]*((59*400/1000)+5) -> #VALUE!
A25: =1+A24 -> 12 | C25: =IFERROR(VLOOKUP(Tableau1[[#This Row],[Site * Un fichier Excel par DT]],Tableau7[[#All],[Nom de la gare]:[EIC]],5,FALSE),"") | H25: =IF(Tableau1[[#This Row],[Régime d''utilisation (Quotidien ? Oui ou Non)]]="Oui","Oui","Non") -> Non | I25: =IF(Tableau1[[#This Row],[Régime d''utilisation (Quotidien ? Oui ou Non)]]="Oui","Oui","Non") -> Non | J25: =IF(Tableau1[[#This Row],[Régime d''utilisation (Quotidien ? Oui ou Non)]]="Oui","Oui","Non") -> Non | K25: =IF(Tableau1[[#This Row],[Régime d''utilisation (Quotidien ? Oui ou Non)]]="Oui","Oui","Non") -> Non | L25: =IF(Tableau1[[#This Row],[Régime d''utilisation (Quotidien ? Oui ou Non)]]="Oui","Oui","Non") -> Non | M25: =IF(Tableau1[[#This Row],[Régime d''utilisation (Quotidien ? Oui ou Non)]]="Oui","Oui","Non") -> Non | N25: =IF(Tableau1[[#This Row],[Régime d''utilisation (Quotidien ? Oui ou Non)]]="Oui","Oui","Non") -> Non | O25: =IF(Tableau1[[#This Row],[Régime d''utilisation (Quotidien ? Oui ou Non)]]="Oui","Oui","Non") -> Non | S25: ="Compris entre 00h00 et 5h00" -> Compris entre 00h00 et 5h00 | U25: ="Voyageur" -> Voyageur | AB25: =400 -> 400 | AC25: =IF(Tableau1[[#This Row],[Type de réponse]]='Paramètre (masquer)'!$A$10,Tableau1[[#This Row],[Période de début *]],"") | AD25: =IF(Tableau1[[#This Row],[Type de réponse]]='Paramètre (masquer)'!$A$10,Tableau1[[#This Row],[Période de fin *]],"") | AE25: =IF(Tableau1[[#This Row],[Type de réponse]]='Paramètre (masquer)'!$A$10,Tableau1[[#This Row],[Nuit LU/MA]],"") | AF25: =IF(Tableau1[[#This Row],[Type de réponse]]='Paramètre (masquer)'!$A$10,Tableau1[[#This Row],[Nuit MA/ME]],"") | AG25: =IF(Tableau1[[#This Row],[Type de réponse]]='Paramètre (masquer)'!$A$10,Tableau1[[#This Row],[Nuit ME/JE]],"") | AH25: =IF(Tableau1[[#This Row],[Type de réponse]]='Paramètre (masquer)'!$A$10,Tableau1[[#This Row],[Nuit JE/VE]],"") | AI25: =IF(Tableau1[[#This Row],[Type de réponse]]='Paramètre (masquer)'!$A$10,Tableau1[[#This Row],[Nuit VE/SA]],"") | AJ25: =IF(Tableau1[[#This Row],[Type de réponse]]='Paramètre (masquer)'!$A$10,Tableau1[[#This Row],[Nuit SA/DI]],"") | AK25: =IF(Tableau1[[#This Row],[Type de réponse]]='Paramètre (masquer)'!$A$10,Tableau1[[#This Row],[Nuit DI/LU]],"") | AL25: =IF(Tableau1[[#This Row],[Nuit LU /MA]]="Oui",0,IF(Tableau1[[#This Row],[Nuit LU /MA]]="Non",1,"")) | AM25: =IF(Tableau1[[#This Row],[Nuit MA/ ME]]="Oui",0,IF(Tableau1[[#This Row],[Nuit MA/ ME]]="Non",1,"")) | AN25: =IF(Tableau1[[#This Row],[Nuit ME/ JE]]="Oui",0,IF(Tableau1[[#This Row],[Nuit ME/ JE]]="Non",1,"")) | AO25: =IF(Tableau1[[#This Row],[Nuit JE/ VE]]="Oui",0,IF(Tableau1[[#This Row],[Nuit JE/ VE]]="Non",1,"")) | AP25: =IF(Tableau1[[#This Row],[Nuit VE/ SA]]="Oui",0,IF(Tableau1[[#This Row],[Nuit VE/ SA]]="Non",1,"")) | AQ25: =IF(Tableau1[[#This Row],[Nuit SA/ DI]]="Oui",0,IF(Tableau1[[#This Row],[Nuit SA/ DI]]="Non",1,"")) | AR25: =IF(Tableau1[[#This Row],[Nuit DI/ LU]]="Oui",0,IF(Tableau1[[#This Row],[Nuit DI/ LU]]="Non",1,"")) | AS25: =IF(Tableau1[[#This Row],[Type de réponse]]='Paramètre (masquer)'!$A$10,Tableau1[[#This Row],[FE]],"") | AT25: =_xlfn.CONCAT(Tableau1[[#This Row],[LUN]:[DIM]]) | AV25: =IF(OR(Tableau1[[#This Row],[Type de réponse]]='Paramètre (masquer)'!$A$10,Tableau1[[#This Row],[Type de réponse]]='Paramètre (masquer)'!$A$11,Tableau1[[#This Row],[Type de réponse]]='Paramètre (masquer)'!$A$12),"Déclaratif","") | AW25: =IF(Tableau1[[#This Row],[FER]]="Oui",NETWORKDAYS.INTL(Tableau1[[#This Row],[Période début]],Tableau1[[#This Row],[Période fin]],Tableau1[[#This Row],[CONCAT]]),NETWORKDAYS.INTL(Tableau1[[#This Row],[Période début]],Tableau1[[#This Row],[Période fin]],Tableau1[[#This Row],[CONCAT]],'Paramètre (masquer)'!$A$18:$A$50)) -> #VALUE! | AX25: =Tableau1[[#This Row],[Nbre de nuits sur la période]]*Tableau1[[#This Row],[Nombre de train accédant / nuit *]] -> #VALUE! | AY25: =Tableau1[[#This Row],[Uo voies - nuit]]*((59*400/1000)+5) -> #VALUE!
A26: =1+A25 -> 13 | C26: =IFERROR(VLOOKUP(Tableau1[[#This Row],[Site * Un fichier Excel par DT]],Tableau7[[#All],[Nom de la gare]:[EIC]],5,FALSE),"") | H26: =IF(Tableau1[[#This Row],[Régime d''utilisation (Quotidien ? Oui ou Non)]]="Oui","Oui","Non") -> Non | I26: =IF(Tableau1[[#This Row],[Régime d''utilisation (Quotidien ? Oui ou Non)]]="Oui","Oui","Non") -> Non | J26: =IF(Tableau1[[#This Row],[Régime d''utilisation (Quotidien ? Oui ou Non)]]="Oui","Oui","Non") -> Non | K26: =IF(Tableau1[[#This Row],[Régime d''utilisation (Quotidien ? Oui ou Non)]]="Oui","Oui","Non") -> Non | L26: =IF(Tableau1[[#This Row],[Régime d''utilisation (Quotidien ? Oui ou Non)]]="Oui","Oui","Non") -> Non | M26: =IF(Tableau1[[#This Row],[Régime d''utilisation (Quotidien ? Oui ou Non)]]="Oui","Oui","Non") -> Non | N26: =IF(Tableau1[[#This Row],[Régime d''utilisation (Quotidien ? Oui ou Non)]]="Oui","Oui","Non") -> Non | O26: =IF(Tableau1[[#This Row],[Régime d''utilisation (Quotidien ? Oui ou Non)]]="Oui","Oui","Non") -> Non | S26: ="Compris entre 00h00 et 5h00" -> Compris entre 00h00 et 5h00 | U26: ="Voyageur" -> Voyageur | AB26: =400 -> 400 | AC26: =IF(Tableau1[[#This Row],[Type de réponse]]='Paramètre (masquer)'!$A$10,Tableau1[[#This Row],[Période de début *]],"") | AD26: =IF(Tableau1[[#This Row],[Type de réponse]]='Paramètre (masquer)'!$A$10,Tableau1[[#This Row],[Période de fin *]],"") | AE26: =IF(Tableau1[[#This Row],[Type de réponse]]='Paramètre (masquer)'!$A$10,Tableau1[[#This Row],[Nuit LU/MA]],"") | AF26: =IF(Tableau1[[#This Row],[Type de réponse]]='Paramètre (masquer)'!$A$10,Tableau1[[#This Row],[Nuit MA/ME]],"") | AG26: =IF(Tableau1[[#This Row],[Type de réponse]]='Paramètre (masquer)'!$A$10,Tableau1[[#This Row],[Nuit ME/JE]],"") | AH26: =IF(Tableau1[[#This Row],[Type de réponse]]='Paramètre (masquer)'!$A$10,Tableau1[[#This Row],[Nuit JE/VE]],"") | AI26: =IF(Tableau1[[#This Row],[Type de réponse]]='Paramètre (masquer)'!$A$10,Tableau1[[#This Row],[Nuit VE/SA]],"") | AJ26: =IF(Tableau1[[#This Row],[Type de réponse]]='Paramètre (masquer)'!$A$10,Tableau1[[#This Row],[Nuit SA/DI]],"") | AK26: =IF(Tableau1[[#This Row],[Type de réponse]]='Paramètre (masquer)'!$A$10,Tableau1[[#This Row],[Nuit DI/LU]],"") | AL26: =IF(Tableau1[[#This Row],[Nuit LU /MA]]="Oui",0,IF(Tableau1[[#This Row],[Nuit LU /MA]]="Non",1,"")) | AM26: =IF(Tableau1[[#This Row],[Nuit MA/ ME]]="Oui",0,IF(Tableau1[[#This Row],[Nuit MA/ ME]]="Non",1,"")) | AN26: =IF(Tableau1[[#This Row],[Nuit ME/ JE]]="Oui",0,IF(Tableau1[[#This Row],[Nuit ME/ JE]]="Non",1,"")) | AO26: =IF(Tableau1[[#This Row],[Nuit JE/ VE]]="Oui",0,IF(Tableau1[[#This Row],[Nuit JE/ VE]]="Non",1,"")) | AP26: =IF(Tableau1[[#This Row],[Nuit VE/ SA]]="Oui",0,IF(Tableau1[[#This Row],[Nuit VE/ SA]]="Non",1,"")) | AQ26: =IF(Tableau1[[#This Row],[Nuit SA/ DI]]="Oui",0,IF(Tableau1[[#This Row],[Nuit SA/ DI]]="Non",1,"")) | AR26: =IF(Tableau1[[#This Row],[Nuit DI/ LU]]="Oui",0,IF(Tableau1[[#This Row],[Nuit DI/ LU]]="Non",1,"")) | AS26: =IF(Tableau1[[#This Row],[Type de réponse]]='Paramètre (masquer)'!$A$10,Tableau1[[#This Row],[FE]],"") | AT26: =_xlfn.CONCAT(Tableau1[[#This Row],[LUN]:[DIM]]) | AV26: =IF(OR(Tableau1[[#This Row],[Type de réponse]]='Paramètre (masquer)'!$A$10,Tableau1[[#This Row],[Type de réponse]]='Paramètre (masquer)'!$A$11,Tableau1[[#This Row],[Type de réponse]]='Paramètre (masquer)'!$A$12),"Déclaratif","") | AW26: =IF(Tableau1[[#This Row],[FER]]="Oui",NETWORKDAYS.INTL(Tableau1[[#This Row],[Période début]],Tableau1[[#This Row],[Période fin]],Tableau1[[#This Row],[CONCAT]]),NETWORKDAYS.INTL(Tableau1[[#This Row],[Période début]],Tableau1[[#This Row],[Période fin]],Tableau1[[#This Row],[CONCAT]],'Paramètre (masquer)'!$A$18:$A$50)) -> #VALUE! | AX26: =Tableau1[[#This Row],[Nbre de nuits sur la période]]*Tableau1[[#This Row],[Nombre de train accédant / nuit *]] -> #VALUE! | AY26: =Tableau1[[#This Row],[Uo voies - nuit]]*((59*400/1000)+5) -> #VALUE!
